BEGIN:VCALENDAR
VERSION:2.0
PRODID:-//Gymnastiek vereniging DOS Udenhout - ECPv6.15.18//NONSGML v1.0//EN
CALSCALE:GREGORIAN
METHOD:PUBLISH
X-ORIGINAL-URL:https://www.gvdos.nl
X-WR-CALDESC:Evenementen voor Gymnastiek vereniging DOS Udenhout
REFRESH-INTERVAL;VALUE=DURATION:PT1H
X-Robots-Tag:noindex
X-PUBLISHED-TTL:PT1H
BEGIN:VTIMEZONE
TZID:Europe/Amsterdam
BEGIN:DAYLIGHT
TZOFFSETFROM:+0100
TZOFFSETTO:+0200
TZNAME:CEST
DTSTART:20240331T010000
END:DAYLIGHT
BEGIN:STANDARD
TZOFFSETFROM:+0200
TZOFFSETTO:+0100
TZNAME:CET
DTSTART:20241027T010000
END:STANDARD
BEGIN:DAYLIGHT
TZOFFSETFROM:+0100
TZOFFSETTO:+0200
TZNAME:CEST
DTSTART:20250330T010000
END:DAYLIGHT
BEGIN:STANDARD
TZOFFSETFROM:+0200
TZOFFSETTO:+0100
TZNAME:CET
DTSTART:20251026T010000
END:STANDARD
BEGIN:DAYLIGHT
TZOFFSETFROM:+0100
TZOFFSETTO:+0200
TZNAME:CEST
DTSTART:20260329T010000
END:DAYLIGHT
BEGIN:STANDARD
TZOFFSETFROM:+0200
TZOFFSETTO:+0100
TZNAME:CET
DTSTART:20261025T010000
END:STANDARD
END:VTIMEZONE
BEGIN:VEVENT
DTSTART;TZID=Europe/Amsterdam:20251206T080000
DTEND;TZID=Europe/Amsterdam:20251206T170000
DTSTAMP:20260420T221923
CREATED:20251213T115351Z
LAST-MODIFIED:20251213T115351Z
UID:4310-1765008000-1765040400@www.gvdos.nl
SUMMARY:Finale groepsspringen
DESCRIPTION:
URL:https://www.gvdos.nl/agenda-item/finale-groepsspringen/
END:VEVENT
BEGIN:VEVENT
DTSTART;TZID=Europe/Amsterdam:20251213T193000
DTEND;TZID=Europe/Amsterdam:20251213T220000
DTSTAMP:20260420T221923
CREATED:20251212T193459Z
LAST-MODIFIED:20251212T193459Z
UID:4300-1765654200-1765663200@www.gvdos.nl
SUMMARY:ALV & Pubquiz
DESCRIPTION:
URL:https://www.gvdos.nl/agenda-item/alv-pubquiz/
LOCATION:’t Plein Udenhout
END:VEVENT
END:VCALENDAR