BEGIN:VCALENDAR
VERSION:2.0
PRODID:-//Gymnastiek vereniging DOS Udenhout - ECPv6.15.18//NONSGML v1.0//EN
CALSCALE:GREGORIAN
METHOD:PUBLISH
X-ORIGINAL-URL:https://www.gvdos.nl
X-WR-CALDESC:Evenementen voor Gymnastiek vereniging DOS Udenhout
REFRESH-INTERVAL;VALUE=DURATION:PT1H
X-Robots-Tag:noindex
X-PUBLISHED-TTL:PT1H
BEGIN:VTIMEZONE
TZID:Europe/Amsterdam
BEGIN:DAYLIGHT
TZOFFSETFROM:+0100
TZOFFSETTO:+0200
TZNAME:CEST
DTSTART:20180325T010000
END:DAYLIGHT
BEGIN:STANDARD
TZOFFSETFROM:+0200
TZOFFSETTO:+0100
TZNAME:CET
DTSTART:20181028T010000
END:STANDARD
BEGIN:DAYLIGHT
TZOFFSETFROM:+0100
TZOFFSETTO:+0200
TZNAME:CEST
DTSTART:20190331T010000
END:DAYLIGHT
BEGIN:STANDARD
TZOFFSETFROM:+0200
TZOFFSETTO:+0100
TZNAME:CET
DTSTART:20191027T010000
END:STANDARD
BEGIN:DAYLIGHT
TZOFFSETFROM:+0100
TZOFFSETTO:+0200
TZNAME:CEST
DTSTART:20200329T010000
END:DAYLIGHT
BEGIN:STANDARD
TZOFFSETFROM:+0200
TZOFFSETTO:+0100
TZNAME:CET
DTSTART:20201025T010000
END:STANDARD
BEGIN:DAYLIGHT
TZOFFSETFROM:+0100
TZOFFSETTO:+0200
TZNAME:CEST
DTSTART:20210328T010000
END:DAYLIGHT
BEGIN:STANDARD
TZOFFSETFROM:+0200
TZOFFSETTO:+0100
TZNAME:CET
DTSTART:20211031T010000
END:STANDARD
END:VTIMEZONE
BEGIN:VEVENT
DTSTART;TZID=Europe/Amsterdam:20200708T140000
DTEND;TZID=Europe/Amsterdam:20200708T160000
DTSTAMP:20260420T205301
CREATED:20190919T101514Z
LAST-MODIFIED:20190919T101514Z
UID:2430-1594216800-1594224000@www.gvdos.nl
SUMMARY:PEUTER-/KLEUTERGYM – Themales Jungle
DESCRIPTION:De laatste les kunnen de kinderen zich uitleven in de jungle en sluiten we het seizoen gezellig samen af.
URL:https://www.gvdos.nl/agenda-item/peuter-kleutergym-themales-jungle-3/
END:VEVENT
BEGIN:VEVENT
DTSTART;TZID=Europe/Amsterdam:20200617T140000
DTEND;TZID=Europe/Amsterdam:20200617T160000
DTSTAMP:20260420T205301
CREATED:20190919T101419Z
LAST-MODIFIED:20190919T101419Z
UID:2428-1592402400-1592409600@www.gvdos.nl
SUMMARY:PEUTER-/KLEUTERGYM – Stickerkaart 3
DESCRIPTION:De kinderen krijgen als afsluiting een derde rijtje stickers en een mooi diploma.
URL:https://www.gvdos.nl/agenda-item/peuter-kleutergym-stickerkaart-3-3/
END:VEVENT
BEGIN:VEVENT
DTSTART;TZID=Europe/Amsterdam:20200603T140000
DTEND;TZID=Europe/Amsterdam:20200603T160000
DTSTAMP:20260420T205301
CREATED:20190919T101324Z
LAST-MODIFIED:20190919T101324Z
UID:2426-1591192800-1591200000@www.gvdos.nl
SUMMARY:PEUTER-/KLEUTERGYM – Themales Wipe-out
DESCRIPTION:Vandaag gaan we de uitdaging aan op een Wipe-Out parcours.
URL:https://www.gvdos.nl/agenda-item/peuter-kleutergym-themales-wipe-out/
END:VEVENT
BEGIN:VEVENT
DTSTART;TZID=Europe/Amsterdam:20200520T140000
DTEND;TZID=Europe/Amsterdam:20200520T160000
DTSTAMP:20260420T205301
CREATED:20190919T101216Z
LAST-MODIFIED:20190919T101216Z
UID:2424-1589983200-1589990400@www.gvdos.nl
SUMMARY:PEUTER-/KLEUTERGYM – Thema circus
DESCRIPTION:We zijn vandaag echte circusartiesten en gaan verschillende acts oefenen.
URL:https://www.gvdos.nl/agenda-item/peuter-kleutergym-thema-circus-2/
END:VEVENT
BEGIN:VEVENT
DTSTART;TZID=Europe/Amsterdam:20200408T140000
DTEND;TZID=Europe/Amsterdam:20200408T160000
DTSTAMP:20260420T205301
CREATED:20190919T101127Z
LAST-MODIFIED:20190919T101127Z
UID:2422-1586354400-1586361600@www.gvdos.nl
SUMMARY:PEUTER-/KLEUTERGYM – Themales pasen
DESCRIPTION:We gaan eieren zoeken en daarna leuke gymopdrachten uitvoeren met de eieren.
URL:https://www.gvdos.nl/agenda-item/peuter-kleutergym-themales-pasen-3/
END:VEVENT
BEGIN:VEVENT
DTSTART;TZID=Europe/Amsterdam:20200311T140000
DTEND;TZID=Europe/Amsterdam:20200311T160000
DTSTAMP:20260420T205301
CREATED:20190919T101037Z
LAST-MODIFIED:20190919T101037Z
UID:2420-1583935200-1583942400@www.gvdos.nl
SUMMARY:PEUTER-/KLEUTERGYM – Stickerkaart 2
DESCRIPTION:De kinderen krijgen een tweede rijtje stickers op hun kaart.
URL:https://www.gvdos.nl/agenda-item/peuter-kleutergym-stickerkaart-2-2/
END:VEVENT
BEGIN:VEVENT
DTSTART;TZID=Europe/Amsterdam:20200219T140000
DTEND;TZID=Europe/Amsterdam:20200219T160000
DTSTAMP:20260420T205301
CREATED:20190919T100952Z
LAST-MODIFIED:20190919T100952Z
UID:2418-1582120800-1582128000@www.gvdos.nl
SUMMARY:PEUTER-/KLEUTERGYM – Themales carnaval
DESCRIPTION:Het wordt feest in de gymzaal met ballonnen en verkleedkleren!
URL:https://www.gvdos.nl/agenda-item/peuter-kleutergym-themales-carnaval-2/
END:VEVENT
BEGIN:VEVENT
DTSTART;TZID=Europe/Amsterdam:20200122T140000
DTEND;TZID=Europe/Amsterdam:20200122T160000
DTSTAMP:20260420T205301
CREATED:20190919T100900Z
LAST-MODIFIED:20190919T100900Z
UID:2416-1579701600-1579708800@www.gvdos.nl
SUMMARY:PEUTER-/KLEUTERGYM – Ouderles
DESCRIPTION:Ouders mogen vandaag mee gymmen. (Kunt u zelf niet\, dan mag natuurlijk ook een andere volwassene meedoen met uw kind).
URL:https://www.gvdos.nl/agenda-item/peuter-kleutergym-ouderles-2/
END:VEVENT
BEGIN:VEVENT
DTSTART;TZID=Europe/Amsterdam:20191218T140000
DTEND;TZID=Europe/Amsterdam:20191218T160000
DTSTAMP:20260420T205301
CREATED:20190919T100808Z
LAST-MODIFIED:20190919T100808Z
UID:2414-1576677600-1576684800@www.gvdos.nl
SUMMARY:PEUTER-/KLEUTERGYM – Themales Winter
DESCRIPTION:Het is winter en we gaan in de gymzaal skiën\, sleeën en sneeuwballen gooien
URL:https://www.gvdos.nl/agenda-item/peuter-kleutergym-themales-winter-2/
END:VEVENT
BEGIN:VEVENT
DTSTART;TZID=Europe/Amsterdam:20191204T070000
DTEND;TZID=Europe/Amsterdam:20191204T160000
DTSTAMP:20260420T205301
CREATED:20190919T100720Z
LAST-MODIFIED:20190919T100720Z
UID:2412-1575442800-1575475200@www.gvdos.nl
SUMMARY:PEUTER-/KLEUTERGYM – Pietengym
DESCRIPTION:We gaan als Pieten een parcours afleggen met pakjes
URL:https://www.gvdos.nl/agenda-item/peuter-kleutergym-pietengym-3/
END:VEVENT
BEGIN:VEVENT
DTSTART;TZID=Europe/Amsterdam:20191127T140000
DTEND;TZID=Europe/Amsterdam:20191127T160000
DTSTAMP:20260420T205301
CREATED:20190919T100618Z
LAST-MODIFIED:20190919T100618Z
UID:2410-1574863200-1574870400@www.gvdos.nl
SUMMARY:PEUTER-/KLEUTERGYM – Pietengym
DESCRIPTION:We gaan als Pieten een parcours afleggen met pakjes
URL:https://www.gvdos.nl/agenda-item/peuter-kleutergym-pietengym-2/
END:VEVENT
BEGIN:VEVENT
DTSTART;TZID=Europe/Amsterdam:20191106T140000
DTEND;TZID=Europe/Amsterdam:20191106T160000
DTSTAMP:20260420T205301
CREATED:20190919T100500Z
LAST-MODIFIED:20190919T100500Z
UID:2408-1573048800-1573056000@www.gvdos.nl
SUMMARY:PEUTER-/KLEUTERGYM – Stickerkaart 1
DESCRIPTION:De kinderen krijgen als beloning voor hun inzet op het eerste rijtje van de stickerkaart mooie stickers
URL:https://www.gvdos.nl/agenda-item/peuter-kleutergym-stickerkaart-1-2/
END:VEVENT
BEGIN:VEVENT
DTSTART;TZID=Europe/Amsterdam:20191023T140000
DTEND;TZID=Europe/Amsterdam:20191023T160000
DTSTAMP:20260420T205301
CREATED:20190919T100307Z
LAST-MODIFIED:20190919T100307Z
UID:2406-1571839200-1571846400@www.gvdos.nl
SUMMARY:PEUTER-/KLEUTERGYM – vriendjesles
DESCRIPTION:Iedereen mag een vriendje/vriendinnetje meenemen van dezelfde leeftijd.
URL:https://www.gvdos.nl/agenda-item/peuter-kleutergym-vriendjesles/
END:VEVENT
BEGIN:VEVENT
DTSTART;VALUE=DATE:20191013
DTEND;VALUE=DATE:20191021
DTSTAMP:20260420T205301
CREATED:20191010T113737Z
LAST-MODIFIED:20191010T113737Z
UID:2459-1571007600-1571612399@www.gvdos.nl
SUMMARY:Herfstvakantie
DESCRIPTION:14 oktober tot 20 oktober zullen er helaas geen lessen zijn ivm herfstvakantie
URL:https://www.gvdos.nl/agenda-item/herfstvakantie-4/
LOCATION:Gymzaal de Schelf\, Tongerloplein\, Udenhout\, Nederland
END:VEVENT
BEGIN:VEVENT
DTSTART;TZID=Europe/Amsterdam:20191009T140000
DTEND;TZID=Europe/Amsterdam:20191009T160000
DTSTAMP:20260420T205301
CREATED:20190919T100023Z
LAST-MODIFIED:20190919T100023Z
UID:2402-1570629600-1570636800@www.gvdos.nl
SUMMARY:PEUTER-/KLEUTERGYM - Themales herfst
DESCRIPTION:Het is herfst en we gaan leuke oefeningen doen met regenplassen\, parapluutjes en kastanjes.
URL:https://www.gvdos.nl/agenda-item/peuter-kleutergym-themales-herfst-2/
END:VEVENT
BEGIN:VEVENT
DTSTART;TZID=Europe/Amsterdam:20190708T070000
DTEND;TZID=Europe/Amsterdam:20190818T160000
DTSTAMP:20260420T205301
CREATED:20180901T160934Z
LAST-MODIFIED:20180901T160934Z
UID:2126-1562569200-1566144000@www.gvdos.nl
SUMMARY:Zomervakantie - geen les
DESCRIPTION:
URL:https://www.gvdos.nl/agenda-item/zomervakantie-geen-les-2/
END:VEVENT
BEGIN:VEVENT
DTSTART;TZID=Europe/Amsterdam:20190703T140000
DTEND;TZID=Europe/Amsterdam:20190703T160000
DTSTAMP:20260420T205301
CREATED:20180901T155724Z
LAST-MODIFIED:20180901T155724Z
UID:2106-1562162400-1562169600@www.gvdos.nl
SUMMARY:PEUTER-/KLEUTERGYM - Themales Jungle
DESCRIPTION:De laatste les kunnen de kinderen zich uitleven in de jungle en sluiten we het seizoen gezellig samen af.
URL:https://www.gvdos.nl/agenda-item/peuter-kleutergym-themales-jungle-2/
END:VEVENT
BEGIN:VEVENT
DTSTART;TZID=Europe/Amsterdam:20190623T070000
DTEND;TZID=Europe/Amsterdam:20190623T160000
DTSTAMP:20260420T205301
CREATED:20180703T134414Z
LAST-MODIFIED:20180703T134414Z
UID:2074-1561273200-1561305600@www.gvdos.nl
SUMMARY:Groepsspringen - NK individueel A/B - Rotterdam
DESCRIPTION:
URL:https://www.gvdos.nl/agenda-item/groepsspringen-nk-individueel-a-b-rotterdam-4/
END:VEVENT
BEGIN:VEVENT
DTSTART;TZID=Europe/Amsterdam:20190622T070000
DTEND;TZID=Europe/Amsterdam:20190622T160000
DTSTAMP:20260420T205301
CREATED:20180703T134348Z
LAST-MODIFIED:20180703T134348Z
UID:2072-1561186800-1561219200@www.gvdos.nl
SUMMARY:Groepsspringen - NK individueel A/B - Rotterdam
DESCRIPTION:
URL:https://www.gvdos.nl/agenda-item/groepsspringen-nk-individueel-a-b-rotterdam-3/
END:VEVENT
BEGIN:VEVENT
DTSTART;TZID=Europe/Amsterdam:20190619T140000
DTEND;TZID=Europe/Amsterdam:20190619T160000
DTSTAMP:20260420T205301
CREATED:20180901T155634Z
LAST-MODIFIED:20180901T155634Z
UID:2104-1560952800-1560960000@www.gvdos.nl
SUMMARY:PEUTER-/KLEUTERGYM - Stickerkaart 3
DESCRIPTION:De kinderen krijgen als afsluiting een derde rijtje stickers en een mooi diploma
URL:https://www.gvdos.nl/agenda-item/peuter-kleutergym-stickerkaart-3-2/
END:VEVENT
BEGIN:VEVENT
DTSTART;TZID=Europe/Amsterdam:20190615T070000
DTEND;TZID=Europe/Amsterdam:20190615T160000
DTSTAMP:20260420T205301
CREATED:20180703T134309Z
LAST-MODIFIED:20180703T134309Z
UID:2070-1560582000-1560614400@www.gvdos.nl
SUMMARY:Groepsspringen - NK individueel A/B - Rotterdam
DESCRIPTION:
URL:https://www.gvdos.nl/agenda-item/groepsspringen-nk-individueel-a-b-rotterdam-2/
END:VEVENT
BEGIN:VEVENT
DTSTART;TZID=Europe/Amsterdam:20190614T070000
DTEND;TZID=Europe/Amsterdam:20190614T160000
DTSTAMP:20260420T205301
CREATED:20180703T134245Z
LAST-MODIFIED:20180703T134245Z
UID:2068-1560495600-1560528000@www.gvdos.nl
SUMMARY:Groepsspringen - NK individueel A/B - Rotterdam
DESCRIPTION:
URL:https://www.gvdos.nl/agenda-item/groepsspringen-nk-individueel-a-b-rotterdam/
END:VEVENT
BEGIN:VEVENT
DTSTART;TZID=Europe/Amsterdam:20190608T070000
DTEND;TZID=Europe/Amsterdam:20190608T160000
DTSTAMP:20260420T205301
CREATED:20180703T134157Z
LAST-MODIFIED:20180703T134157Z
UID:2066-1559977200-1560009600@www.gvdos.nl
SUMMARY:Groepsspringen - NK C Junior mix - Bergen op Zoom
DESCRIPTION:
URL:https://www.gvdos.nl/agenda-item/groepsspringen-nk-c-junior-mix-bergen-op-zoom/
END:VEVENT
BEGIN:VEVENT
DTSTART;TZID=Europe/Amsterdam:20190522T140000
DTEND;TZID=Europe/Amsterdam:20190522T160000
DTSTAMP:20260420T205301
CREATED:20180901T155533Z
LAST-MODIFIED:20180901T155533Z
UID:2102-1558533600-1558540800@www.gvdos.nl
SUMMARY:PEUTER-/KLEUTERGYM -Thema circus
DESCRIPTION:We zijn vandaag echte circusartiesten en gaan verschillende acts oefenen
URL:https://www.gvdos.nl/agenda-item/peuter-kleutergym-thema-circus/
END:VEVENT
BEGIN:VEVENT
DTSTART;VALUE=DATE:20190518
DTEND;VALUE=DATE:20190520
DTSTAMP:20260420T205301
CREATED:20180901T160221Z
LAST-MODIFIED:20180901T160221Z
UID:2114-1558220400-1558306799@www.gvdos.nl
SUMMARY:Tino van Loenhout Clubkampioenschappen
DESCRIPTION:
URL:https://www.gvdos.nl/agenda-item/tino-van-loenhout-clubkampioenschappen-7/
END:VEVENT
BEGIN:VEVENT
DTSTART;VALUE=DATE:20190517
DTEND;VALUE=DATE:20190519
DTSTAMP:20260420T205301
CREATED:20180901T160203Z
LAST-MODIFIED:20180901T160203Z
UID:2112-1558134000-1558220399@www.gvdos.nl
SUMMARY:Tino van Loenhout Clubkampioenschappen
DESCRIPTION:
URL:https://www.gvdos.nl/agenda-item/tino-van-loenhout-clubkampioenschappen-6/
END:VEVENT
BEGIN:VEVENT
DTSTART;TZID=Europe/Amsterdam:20190422T070000
DTEND;TZID=Europe/Amsterdam:20190505T160000
DTSTAMP:20260420T205301
CREATED:20180901T160840Z
LAST-MODIFIED:20180901T160840Z
UID:2124-1555916400-1557072000@www.gvdos.nl
SUMMARY:Meivakantie - geen les
DESCRIPTION:
URL:https://www.gvdos.nl/agenda-item/meivakantie-geen-les-2/
END:VEVENT
BEGIN:VEVENT
DTSTART;TZID=Europe/Amsterdam:20190417T140000
DTEND;TZID=Europe/Amsterdam:20190417T160000
DTSTAMP:20260420T205301
CREATED:20180901T155439Z
LAST-MODIFIED:20180901T155439Z
UID:2100-1555509600-1555516800@www.gvdos.nl
SUMMARY:PEUTER-/KLEUTERGYM -Themales Pasen
DESCRIPTION:We gaan eieren zoeken en daarna leuke gymopdrachten uitvoeren met de eieren.
URL:https://www.gvdos.nl/agenda-item/peuter-kleutergym-themales-pasen-2/
END:VEVENT
BEGIN:VEVENT
DTSTART;TZID=Europe/Amsterdam:20190406T070000
DTEND;TZID=Europe/Amsterdam:20190406T160000
DTSTAMP:20260420T205301
CREATED:20180703T134051Z
LAST-MODIFIED:20180703T134117Z
UID:2064-1554534000-1554566400@www.gvdos.nl
SUMMARY:Groepsspringen - NK clubteams ABC - Nieuwleusen
DESCRIPTION:
URL:https://www.gvdos.nl/agenda-item/groepsspringen-nk-clubteams-abc-nieuwleusen/
END:VEVENT
BEGIN:VEVENT
DTSTART;TZID=Europe/Amsterdam:20190313T140000
DTEND;TZID=Europe/Amsterdam:20190313T160000
DTSTAMP:20260420T205301
CREATED:20180901T155344Z
LAST-MODIFIED:20180901T155344Z
UID:2098-1552485600-1552492800@www.gvdos.nl
SUMMARY:PEUTER-/KLEUTERGYM -Stickerkaart 2
DESCRIPTION:De kinderen krijgen een tweede rijtje stickers op hun kaart.
URL:https://www.gvdos.nl/agenda-item/peuter-kleutergym-stickerkaart-2/
END:VEVENT
END:VCALENDAR