BEGIN:VCALENDAR
VERSION:2.0
PRODID:-//Gymnastiek vereniging DOS Udenhout - ECPv6.15.18//NONSGML v1.0//EN
CALSCALE:GREGORIAN
METHOD:PUBLISH
X-WR-CALNAME:Gymnastiek vereniging DOS Udenhout
X-ORIGINAL-URL:https://www.gvdos.nl
X-WR-CALDESC:Evenementen voor Gymnastiek vereniging DOS Udenhout
REFRESH-INTERVAL;VALUE=DURATION:PT1H
X-Robots-Tag:noindex
X-PUBLISHED-TTL:PT1H
BEGIN:VTIMEZONE
TZID:Europe/Amsterdam
BEGIN:DAYLIGHT
TZOFFSETFROM:+0100
TZOFFSETTO:+0200
TZNAME:CEST
DTSTART:20130331T010000
END:DAYLIGHT
BEGIN:STANDARD
TZOFFSETFROM:+0200
TZOFFSETTO:+0100
TZNAME:CET
DTSTART:20131027T010000
END:STANDARD
BEGIN:DAYLIGHT
TZOFFSETFROM:+0100
TZOFFSETTO:+0200
TZNAME:CEST
DTSTART:20140330T010000
END:DAYLIGHT
BEGIN:STANDARD
TZOFFSETFROM:+0200
TZOFFSETTO:+0100
TZNAME:CET
DTSTART:20141026T010000
END:STANDARD
BEGIN:DAYLIGHT
TZOFFSETFROM:+0100
TZOFFSETTO:+0200
TZNAME:CEST
DTSTART:20150329T010000
END:DAYLIGHT
BEGIN:STANDARD
TZOFFSETFROM:+0200
TZOFFSETTO:+0100
TZNAME:CET
DTSTART:20151025T010000
END:STANDARD
END:VTIMEZONE
BEGIN:VEVENT
DTSTART;TZID=Europe/Amsterdam:20140828T213000
DTEND;TZID=Europe/Amsterdam:20140829T003000
DTSTAMP:20260422T041549
CREATED:20141010T130338Z
LAST-MODIFIED:20141010T130338Z
UID:309-1409261400-1409272200@www.gvdos.nl
SUMMARY:Bestuursvergadering GV DOS
DESCRIPTION:
URL:https://www.gvdos.nl/agenda-item/bestuursvergadering-gv-dos-6/
END:VEVENT
END:VCALENDAR