BEGIN:VCALENDAR
VERSION:2.0
PRODID:-//Gymnastiek vereniging DOS Udenhout - ECPv6.15.18//NONSGML v1.0//EN
CALSCALE:GREGORIAN
METHOD:PUBLISH
X-WR-CALNAME:Gymnastiek vereniging DOS Udenhout
X-ORIGINAL-URL:https://www.gvdos.nl
X-WR-CALDESC:Evenementen voor Gymnastiek vereniging DOS Udenhout
REFRESH-INTERVAL;VALUE=DURATION:PT1H
X-Robots-Tag:noindex
X-PUBLISHED-TTL:PT1H
BEGIN:VTIMEZONE
TZID:Europe/Amsterdam
BEGIN:DAYLIGHT
TZOFFSETFROM:+0100
TZOFFSETTO:+0200
TZNAME:CEST
DTSTART:20130331T010000
END:DAYLIGHT
BEGIN:STANDARD
TZOFFSETFROM:+0200
TZOFFSETTO:+0100
TZNAME:CET
DTSTART:20131027T010000
END:STANDARD
BEGIN:DAYLIGHT
TZOFFSETFROM:+0100
TZOFFSETTO:+0200
TZNAME:CEST
DTSTART:20140330T010000
END:DAYLIGHT
BEGIN:STANDARD
TZOFFSETFROM:+0200
TZOFFSETTO:+0100
TZNAME:CET
DTSTART:20141026T010000
END:STANDARD
BEGIN:DAYLIGHT
TZOFFSETFROM:+0100
TZOFFSETTO:+0200
TZNAME:CEST
DTSTART:20150329T010000
END:DAYLIGHT
BEGIN:STANDARD
TZOFFSETFROM:+0200
TZOFFSETTO:+0100
TZNAME:CET
DTSTART:20151025T010000
END:STANDARD
END:VTIMEZONE
BEGIN:VEVENT
DTSTART;TZID=Europe/Amsterdam:20141015T173000
DTEND;TZID=Europe/Amsterdam:20141015T193000
DTSTAMP:20260422T041519
CREATED:20141010T130338Z
LAST-MODIFIED:20141010T130338Z
UID:315-1413394200-1413401400@www.gvdos.nl
SUMMARY:peuters kleuters themales herfst
DESCRIPTION:
URL:https://www.gvdos.nl/agenda-item/peuters-kleuters-themales-herfst-2/
END:VEVENT
BEGIN:VEVENT
DTSTART;TZID=Europe/Amsterdam:20141008T213000
DTEND;TZID=Europe/Amsterdam:20141009T003000
DTSTAMP:20260422T041519
CREATED:20141010T130338Z
LAST-MODIFIED:20141010T130338Z
UID:314-1412803800-1412814600@www.gvdos.nl
SUMMARY:Bestuursvergadering GV DOS
DESCRIPTION:
URL:https://www.gvdos.nl/agenda-item/bestuursvergadering-gv-dos-7/
END:VEVENT
BEGIN:VEVENT
DTSTART;TZID=Europe/Amsterdam:20141004T140000
DTEND;TZID=Europe/Amsterdam:20141004T150000
DTSTAMP:20260422T041519
CREATED:20141010T130338Z
LAST-MODIFIED:20141010T130338Z
UID:313-1412431200-1412434800@www.gvdos.nl
SUMMARY:Selectieles Springen
DESCRIPTION:
URL:https://www.gvdos.nl/agenda-item/selectieles-springen-13/
END:VEVENT
BEGIN:VEVENT
DTSTART;TZID=Europe/Amsterdam:20140920T140000
DTEND;TZID=Europe/Amsterdam:20140920T150000
DTSTAMP:20260422T041519
CREATED:20141010T130338Z
LAST-MODIFIED:20141010T130338Z
UID:312-1411221600-1411225200@www.gvdos.nl
SUMMARY:Selectieles Springen
DESCRIPTION:
URL:https://www.gvdos.nl/agenda-item/selectieles-springen-12/
END:VEVENT
BEGIN:VEVENT
DTSTART;TZID=Europe/Amsterdam:20140906T140000
DTEND;TZID=Europe/Amsterdam:20140906T150000
DTSTAMP:20260422T041519
CREATED:20141010T130338Z
LAST-MODIFIED:20141010T130338Z
UID:311-1410012000-1410015600@www.gvdos.nl
SUMMARY:Selectieles Springen
DESCRIPTION:
URL:https://www.gvdos.nl/agenda-item/selectieles-springen-11/
END:VEVENT
BEGIN:VEVENT
DTSTART;TZID=Europe/Amsterdam:20140901T080000
DTEND;TZID=Europe/Amsterdam:20140910T170000
DTSTAMP:20260422T041519
CREATED:20260323T121944Z
LAST-MODIFIED:20260323T121944Z
UID:4412-1409558400-1410368400@www.gvdos.nl
SUMMARY:test evenement op 1 september 2014
DESCRIPTION:test evenement op 1 september 2014\nrot 23.03.2026
URL:https://www.gvdos.nl/agenda-item/test-evenement-op-1-september-2014/
END:VEVENT
BEGIN:VEVENT
DTSTART;TZID=Europe/Amsterdam:20140830T140000
DTEND;TZID=Europe/Amsterdam:20140830T150000
DTSTAMP:20260422T041519
CREATED:20141010T130338Z
LAST-MODIFIED:20141010T130338Z
UID:310-1409407200-1409410800@www.gvdos.nl
SUMMARY:Selectieles Springen
DESCRIPTION:
URL:https://www.gvdos.nl/agenda-item/selectieles-springen-10/
END:VEVENT
BEGIN:VEVENT
DTSTART;TZID=Europe/Amsterdam:20140828T213000
DTEND;TZID=Europe/Amsterdam:20140829T003000
DTSTAMP:20260422T041519
CREATED:20141010T130338Z
LAST-MODIFIED:20141010T130338Z
UID:309-1409261400-1409272200@www.gvdos.nl
SUMMARY:Bestuursvergadering GV DOS
DESCRIPTION:
URL:https://www.gvdos.nl/agenda-item/bestuursvergadering-gv-dos-6/
END:VEVENT
END:VCALENDAR