BEGIN:VCALENDAR
VERSION:2.0
PRODID:-//Gymnastiek vereniging DOS Udenhout - ECPv6.15.18//NONSGML v1.0//EN
CALSCALE:GREGORIAN
METHOD:PUBLISH
X-WR-CALNAME:Gymnastiek vereniging DOS Udenhout
X-ORIGINAL-URL:https://www.gvdos.nl
X-WR-CALDESC:Evenementen voor Gymnastiek vereniging DOS Udenhout
REFRESH-INTERVAL;VALUE=DURATION:PT1H
X-Robots-Tag:noindex
X-PUBLISHED-TTL:PT1H
BEGIN:VTIMEZONE
TZID:Europe/Amsterdam
BEGIN:DAYLIGHT
TZOFFSETFROM:+0100
TZOFFSETTO:+0200
TZNAME:CEST
DTSTART:20140330T010000
END:DAYLIGHT
BEGIN:STANDARD
TZOFFSETFROM:+0200
TZOFFSETTO:+0100
TZNAME:CET
DTSTART:20141026T010000
END:STANDARD
BEGIN:DAYLIGHT
TZOFFSETFROM:+0100
TZOFFSETTO:+0200
TZNAME:CEST
DTSTART:20150329T010000
END:DAYLIGHT
BEGIN:STANDARD
TZOFFSETFROM:+0200
TZOFFSETTO:+0100
TZNAME:CET
DTSTART:20151025T010000
END:STANDARD
BEGIN:DAYLIGHT
TZOFFSETFROM:+0100
TZOFFSETTO:+0200
TZNAME:CEST
DTSTART:20160327T010000
END:DAYLIGHT
BEGIN:STANDARD
TZOFFSETFROM:+0200
TZOFFSETTO:+0100
TZNAME:CET
DTSTART:20161030T010000
END:STANDARD
END:VTIMEZONE
BEGIN:VEVENT
DTSTART;TZID=Europe/Amsterdam:20150514T020000
DTEND;TZID=Europe/Amsterdam:20150515T020000
DTSTAMP:20260422T020317
CREATED:20141010T130340Z
LAST-MODIFIED:20141010T130340Z
UID:352-1431568800-1431655200@www.gvdos.nl
SUMMARY:hemelvaart
DESCRIPTION:
URL:https://www.gvdos.nl/agenda-item/hemelvaart-2/
END:VEVENT
BEGIN:VEVENT
DTSTART;TZID=Europe/Amsterdam:20150513T213000
DTEND;TZID=Europe/Amsterdam:20150514T003000
DTSTAMP:20260422T020317
CREATED:20141010T130340Z
LAST-MODIFIED:20141010T130340Z
UID:351-1431552600-1431563400@www.gvdos.nl
SUMMARY:Bestuursvergadering GV DOS
DESCRIPTION:
URL:https://www.gvdos.nl/agenda-item/bestuursvergadering-gv-dos-12/
END:VEVENT
BEGIN:VEVENT
DTSTART;TZID=Europe/Amsterdam:20150502T110000
DTEND;TZID=Europe/Amsterdam:20150502T123000
DTSTAMP:20260422T020317
CREATED:20141027T181023Z
LAST-MODIFIED:20141027T181023Z
UID:547-1430564400-1430569800@www.gvdos.nl
SUMMARY:springles selectie
DESCRIPTION:
URL:https://www.gvdos.nl/agenda-item/springles-selectie-3/
END:VEVENT
BEGIN:VEVENT
DTSTART;TZID=Europe/Amsterdam:20150427T020000
DTEND;TZID=Europe/Amsterdam:20150428T020000
DTSTAMP:20260422T020317
CREATED:20141010T130340Z
LAST-MODIFIED:20141010T130340Z
UID:350-1430100000-1430186400@www.gvdos.nl
SUMMARY:koningsdag
DESCRIPTION:
URL:https://www.gvdos.nl/agenda-item/koningsdag-2/
END:VEVENT
BEGIN:VEVENT
DTSTART;VALUE=DATE:20150426
DTEND;VALUE=DATE:20150428
DTSTAMP:20260422T020317
CREATED:20150322T132902Z
LAST-MODIFIED:20150322T132902Z
UID:916-1430013600-1430099999@www.gvdos.nl
SUMMARY:regiofinale instap D2 in Eindhoven
DESCRIPTION:Verdere informatie volgt snel. \n 
URL:https://www.gvdos.nl/agenda-item/regiofinale-instap-d2-in-eindhoven/
LOCATION:Onbenoemde locatie\, Eindhoven\, Nederland
END:VEVENT
BEGIN:VEVENT
DTSTART;TZID=Europe/Amsterdam:20150425T230000
DTEND;TZID=Europe/Amsterdam:20150510T230000
DTSTAMP:20260422T020317
CREATED:20141010T130340Z
LAST-MODIFIED:20141010T130340Z
UID:349-1430002800-1431298800@www.gvdos.nl
SUMMARY:meivakantie
DESCRIPTION:
URL:https://www.gvdos.nl/agenda-item/meivakantie-2/
END:VEVENT
BEGIN:VEVENT
DTSTART;VALUE=DATE:20150425
DTEND;VALUE=DATE:20150427
DTSTAMP:20260422T020317
CREATED:20150322T132752Z
LAST-MODIFIED:20150322T132810Z
UID:914-1429927200-1430013599@www.gvdos.nl
SUMMARY:toestelfinale divisie 4\, 5 en D1\, D2 in Eindhoven
DESCRIPTION:Verdere informatie volgt snel. \n 
URL:https://www.gvdos.nl/agenda-item/toestelfinale-divisie-4-5-en-d1-d2-in-eindhoven/
LOCATION:Onbenoemde locatie\, Eindhoven\, Nederland
END:VEVENT
BEGIN:VEVENT
DTSTART;TZID=Europe/Amsterdam:20150419T080000
DTEND;TZID=Europe/Amsterdam:20150419T110000
DTSTAMP:20260422T020317
CREATED:20150413T202219Z
LAST-MODIFIED:20150413T203437Z
UID:961-1429430400-1429441200@www.gvdos.nl
SUMMARY:Tino van Loenhout clubkampioenschappen
DESCRIPTION:09:00 – 10.15\nwedstrijd 5\nDinsdag 1e les (16:00 – 17:00)\nDonderdag 1e les (15:30 – 16:30)\n\n\n10:15 – 10:30\nprijsuitreiking\n\n\n10:30 – 11:45\nWedstrijd 6                     Dinsdag 3e les recreanten ( 18:00 – 19:00)\n                                        Donderdag 3e les recreanten ( 17:30 – 18:30)\n                                        Donderdag 4e les ( 18:30 – 19:30)\n\n\n11:45 – 12:00\nprijsuitreiking\n\n\n\n 
URL:https://www.gvdos.nl/agenda-item/tino-van-loenhout-clubkampioenschappen/
LOCATION:Sporthal de Roomleij\, Groenvelde\, Udenhout\, Nederland
END:VEVENT
BEGIN:VEVENT
DTSTART;TZID=Europe/Amsterdam:20150418T131500
DTEND;TZID=Europe/Amsterdam:20150418T204500
DTSTAMP:20260422T020317
CREATED:20141010T130339Z
LAST-MODIFIED:20150413T203228Z
UID:348-1429362900-1429389900@www.gvdos.nl
SUMMARY:Tino van Loenhout clubkampioenschappen
DESCRIPTION:Zaterdag 18 april\nLes\n\n\n\n\n14:15 – 15:30 \nwedstrijd 1 \nWoensdag alle groepsspringlessen \n\n\n\n15:30 – 15:45\nprijsuitreiking\n\n\n15:45 – 16:15 \nOmbouwen \n\n\n16:15 – 17:30 \nwedstrijd 2 \nDinsdag 2e les (17:00 – 18:00)\nDonderdag 2e les (16:30 – 17:30) \n\n\n17:30 – 17:45\nPrijsuitreiking\n\n\n17:45 – 19:30 \nwedstrijd 3 \nDinsdag 3e les Selectie (18:00 – 19:00)\nDonderdag 3e les Selectie (17:30 – 18:30)\nMaandag alle jongenslessen \n\n\n19:30 – 19:45\nprijsuitreiking\n\n\n19:45 – 21:30 \nwedstrijd 4 \nDinsdag 4e en 5e les (19:00 – 21:00)\nDonderdag 5e les (19:30 – 20:30) \n\n\n\n21:30 – 21:45\nprijsuitreiking
URL:https://www.gvdos.nl/agenda-item/tino-van-loenhout-clubkampioenschappen-3/
LOCATION:Sporthal de Roomleij\, Groenvelde\, Udenhout\, Nederland
END:VEVENT
BEGIN:VEVENT
DTSTART;VALUE=DATE:20150411
DTEND;VALUE=DATE:20150413
DTSTAMP:20260422T020317
CREATED:20150322T141338Z
LAST-MODIFIED:20150322T141419Z
UID:931-1428793200-1428879599@www.gvdos.nl
SUMMARY:regio divisie 5 en D2 en voorwedstrijd instap D2 in Valkenswaard
DESCRIPTION:
URL:https://www.gvdos.nl/agenda-item/regiokampioenschappen-divisie-5-en-d2/
LOCATION:De Belleman\, Dommelen\, Bruninckxdal 2\, Dommelen (Valkenswaard)\, Noord-Brabant\, 5551 EV\, Netherlands
END:VEVENT
BEGIN:VEVENT
DTSTART;VALUE=DATE:20150410
DTEND;VALUE=DATE:20150412
DTSTAMP:20260422T020317
CREATED:20150322T141143Z
LAST-MODIFIED:20150322T141529Z
UID:929-1428706800-1428793199@www.gvdos.nl
SUMMARY:Regiofinale divisie 4 en D1
DESCRIPTION:
URL:https://www.gvdos.nl/agenda-item/regiofinale-divisie-4-en-d1/
END:VEVENT
BEGIN:VEVENT
DTSTART;TZID=Europe/Amsterdam:20150404T230000
DTEND;TZID=Europe/Amsterdam:20150406T230000
DTSTAMP:20260422T020317
CREATED:20141010T130339Z
LAST-MODIFIED:20141010T130339Z
UID:347-1428188400-1428361200@www.gvdos.nl
SUMMARY:pasen
DESCRIPTION:
URL:https://www.gvdos.nl/agenda-item/pasen-2/
END:VEVENT
BEGIN:VEVENT
DTSTART;TZID=Europe/Amsterdam:20150404T110000
DTEND;TZID=Europe/Amsterdam:20150404T123000
DTSTAMP:20260422T020317
CREATED:20141010T130339Z
LAST-MODIFIED:20141027T180844Z
UID:346-1428145200-1428150600@www.gvdos.nl
SUMMARY:Selectieles Springen
DESCRIPTION:Oefenwedstrijd.
URL:https://www.gvdos.nl/agenda-item/selectieles-springen-24/
END:VEVENT
BEGIN:VEVENT
DTSTART;TZID=Europe/Amsterdam:20150401T183000
DTEND;TZID=Europe/Amsterdam:20150401T213000
DTSTAMP:20260422T020317
CREATED:20141010T130339Z
LAST-MODIFIED:20141010T130339Z
UID:345-1427913000-1427923800@www.gvdos.nl
SUMMARY:Bestuursvergadering GV DOS
DESCRIPTION:
URL:https://www.gvdos.nl/agenda-item/bestuursvergadering-gv-dos-11/
END:VEVENT
BEGIN:VEVENT
DTSTART;TZID=Europe/Amsterdam:20150401T143000
DTEND;TZID=Europe/Amsterdam:20150401T163000
DTSTAMP:20260422T020317
CREATED:20141010T130339Z
LAST-MODIFIED:20141010T130339Z
UID:344-1427898600-1427905800@www.gvdos.nl
SUMMARY:peuters kleuters themales pasen
DESCRIPTION:
URL:https://www.gvdos.nl/agenda-item/peuters-kleuters-themales-pasen-2/
END:VEVENT
BEGIN:VEVENT
DTSTART;VALUE=DATE:20150327
DTEND;VALUE=DATE:20150329
DTSTAMP:20260422T020317
CREATED:20150322T140712Z
LAST-MODIFIED:20150322T140712Z
UID:927-1427497200-1427583599@www.gvdos.nl
SUMMARY:voorwedstrijd divisie 5 en D2 in Cuijk
DESCRIPTION:
URL:https://www.gvdos.nl/agenda-item/voorwedstrijd-divisie-5-en-d2-in-cuijk-2/
LOCATION:Laco sportcentrum Cuijk\,\, St. Annastraat 1\, Cuijk\, Nederland
END:VEVENT
BEGIN:VEVENT
DTSTART;TZID=Europe/Amsterdam:20150326T190000
DTEND;TZID=Europe/Amsterdam:20150326T213000
DTSTAMP:20260422T020317
CREATED:20141010T130339Z
LAST-MODIFIED:20141010T130339Z
UID:343-1427396400-1427405400@www.gvdos.nl
SUMMARY:vergadering Technische Commissie
DESCRIPTION:
URL:https://www.gvdos.nl/agenda-item/vergadering-technische-commissie-3/
END:VEVENT
BEGIN:VEVENT
DTSTART;TZID=Europe/Amsterdam:20150325T143000
DTEND;TZID=Europe/Amsterdam:20150325T163000
DTSTAMP:20260422T020317
CREATED:20141010T130339Z
LAST-MODIFIED:20141010T130339Z
UID:342-1427293800-1427301000@www.gvdos.nl
SUMMARY:peuters kleuters stickerkaart 2
DESCRIPTION:
URL:https://www.gvdos.nl/agenda-item/peuters-kleuters-stickerkaart-2-2/
END:VEVENT
BEGIN:VEVENT
DTSTART;TZID=Europe/Amsterdam:20150321T110000
DTEND;TZID=Europe/Amsterdam:20150321T123000
DTSTAMP:20260422T020317
CREATED:20141010T130339Z
LAST-MODIFIED:20141010T130339Z
UID:341-1426935600-1426941000@www.gvdos.nl
SUMMARY:Selectieles Springen
DESCRIPTION:
URL:https://www.gvdos.nl/agenda-item/selectieles-springen-23/
END:VEVENT
BEGIN:VEVENT
DTSTART;TZID=Europe/Amsterdam:20150307T110000
DTEND;TZID=Europe/Amsterdam:20150307T123000
DTSTAMP:20260422T020317
CREATED:20141010T130339Z
LAST-MODIFIED:20141010T130339Z
UID:340-1425726000-1425731400@www.gvdos.nl
SUMMARY:Selectieles Springen
DESCRIPTION:
URL:https://www.gvdos.nl/agenda-item/selectieles-springen-22/
END:VEVENT
BEGIN:VEVENT
DTSTART;TZID=Europe/Amsterdam:20150225T183000
DTEND;TZID=Europe/Amsterdam:20150225T213000
DTSTAMP:20260422T020317
CREATED:20141010T130339Z
LAST-MODIFIED:20141010T130339Z
UID:339-1424889000-1424899800@www.gvdos.nl
SUMMARY:Bestuursvergadering GV DOS
DESCRIPTION:
URL:https://www.gvdos.nl/agenda-item/bestuursvergadering-gv-dos-10/
END:VEVENT
BEGIN:VEVENT
DTSTART;TZID=Europe/Amsterdam:20150214T230000
DTEND;TZID=Europe/Amsterdam:20150222T230000
DTSTAMP:20260422T020317
CREATED:20141010T130339Z
LAST-MODIFIED:20141010T130339Z
UID:338-1423954800-1424646000@www.gvdos.nl
SUMMARY:carnavalsvakantie
DESCRIPTION:
URL:https://www.gvdos.nl/agenda-item/carnavalsvakantie-2/
END:VEVENT
BEGIN:VEVENT
DTSTART;TZID=Europe/Amsterdam:20150211T143000
DTEND;TZID=Europe/Amsterdam:20150211T163000
DTSTAMP:20260422T020317
CREATED:20141010T130339Z
LAST-MODIFIED:20141010T130339Z
UID:337-1423665000-1423672200@www.gvdos.nl
SUMMARY:peuters kleuters themales carnaval
DESCRIPTION:
URL:https://www.gvdos.nl/agenda-item/peuters-kleuters-themales-carnaval-2/
END:VEVENT
BEGIN:VEVENT
DTSTART;TZID=Europe/Amsterdam:20150207T110000
DTEND;TZID=Europe/Amsterdam:20150207T123000
DTSTAMP:20260422T020317
CREATED:20141010T130339Z
LAST-MODIFIED:20141010T130339Z
UID:336-1423306800-1423312200@www.gvdos.nl
SUMMARY:Selectieles Springen
DESCRIPTION:
URL:https://www.gvdos.nl/agenda-item/selectieles-springen-21/
END:VEVENT
BEGIN:VEVENT
DTSTART;TZID=Europe/Amsterdam:20150124T110000
DTEND;TZID=Europe/Amsterdam:20150124T123000
DTSTAMP:20260422T020317
CREATED:20141010T130339Z
LAST-MODIFIED:20141010T130339Z
UID:335-1422097200-1422102600@www.gvdos.nl
SUMMARY:Selectieles Springen
DESCRIPTION:
URL:https://www.gvdos.nl/agenda-item/selectieles-springen-20/
END:VEVENT
BEGIN:VEVENT
DTSTART;TZID=Europe/Amsterdam:20150124T090000
DTEND;TZID=Europe/Amsterdam:20150124T180000
DTSTAMP:20260422T020317
CREATED:20141209T232423Z
LAST-MODIFIED:20141209T232423Z
UID:730-1422090000-1422122400@www.gvdos.nl
SUMMARY:Wedstrijd jongens in Deurne
DESCRIPTION:Wedstrijd jongens keuze oefenstof. \nverdere informatie volgt binnenkort.
URL:https://www.gvdos.nl/agenda-item/wedstrijd-jongens-in-deurne/
LOCATION:Onbenoemde locatie\, Deurne\, Nederland
END:VEVENT
BEGIN:VEVENT
DTSTART;TZID=Europe/Amsterdam:20150121T143000
DTEND;TZID=Europe/Amsterdam:20150121T163000
DTSTAMP:20260422T020317
CREATED:20141010T130339Z
LAST-MODIFIED:20141010T130339Z
UID:334-1421850600-1421857800@www.gvdos.nl
SUMMARY:peuters kleuters gymles met ouders
DESCRIPTION:
URL:https://www.gvdos.nl/agenda-item/peuters-kleuters-gymles-met-ouders-2/
END:VEVENT
BEGIN:VEVENT
DTSTART;TZID=Europe/Amsterdam:20150117T090000
DTEND;TZID=Europe/Amsterdam:20150117T180000
DTSTAMP:20260422T020317
CREATED:20141209T232152Z
LAST-MODIFIED:20141209T232538Z
UID:727-1421485200-1421517600@www.gvdos.nl
SUMMARY:Wedstrijd jongens in Tilburg
DESCRIPTION:Wedstrijd jongens voorgeschreven oefenstof. \nInformatie over deze wedstrijd volgt binnenkort.
URL:https://www.gvdos.nl/agenda-item/wedstrijd-jongens-in-tilburg/
LOCATION:Onbenoemde locatie\, Tilburg
END:VEVENT
BEGIN:VEVENT
DTSTART;TZID=Europe/Amsterdam:20150110T110000
DTEND;TZID=Europe/Amsterdam:20150110T123000
DTSTAMP:20260422T020317
CREATED:20141010T130339Z
LAST-MODIFIED:20141010T130339Z
UID:333-1420887600-1420893000@www.gvdos.nl
SUMMARY:Selectieles Springen
DESCRIPTION:
URL:https://www.gvdos.nl/agenda-item/selectieles-springen-19/
END:VEVENT
BEGIN:VEVENT
DTSTART;TZID=Europe/Amsterdam:20150109T190000
DTEND;TZID=Europe/Amsterdam:20150109T220000
DTSTAMP:20260422T020317
CREATED:20141010T130339Z
LAST-MODIFIED:20141220T140914Z
UID:332-1420830000-1420840800@www.gvdos.nl
SUMMARY:Algemene Ledenvergadering
DESCRIPTION:Graag nodigen we jullie uit voor de DOS ALV op vrijdag 9 januari 2015. Ook dit jaar combineren we de ALV met de nieuwjaarsreceptie. U bent hier allen van harte voor uitgenodigd. Ook ouders die belangstelling hebben in het wel en wee van onze vereniging zijn hierbij van harte welkom.  \nDe agenda van de avond ziet er als volgt uit: \n20:00 uur ontvangst \n20:15 uur aanvang ALV \n– inleiding \n– vaststellen jaarverslag secretaris \n– verslag van de kascommissie \n– verslag van de jaarrekening van de vereniging \n– vaststellen van de begroting voor het komende boekjaar \n– kwijting en decharge van het gevoerde bestuur \n– benoeming bestuursleden \n– benoeming kascommissie \n– ingekomen voorstellen \n– diversen \n– vaststelling datum volgende jaarvergadering \n– Huldiging Kampioenen 2014 \n21:15 uur sluiting door de voorzitter \n21:20 uur aanvang nieuwjaarsreceptie \nDe A.L.V. en nieuwjaarsreceptie vinden plaats in de theaterzaal van de Peppel\, Zeshoevenstraat 36 te Udenhout. \nmet vriendelijke groet\, \nBestuur G.V. D.O.S.  \n 
URL:https://www.gvdos.nl/agenda-item/algemene-ledenvergadering-2/
LOCATION:theaterzaal van de Peppel\, Zeshoevenstraat 36\, Udenhout\, Noord Brabant\, Nederland
END:VEVENT
END:VCALENDAR