BEGIN:VCALENDAR
VERSION:2.0
PRODID:-//Gymnastiek vereniging DOS Udenhout - ECPv6.15.18//NONSGML v1.0//EN
CALSCALE:GREGORIAN
METHOD:PUBLISH
X-ORIGINAL-URL:https://www.gvdos.nl
X-WR-CALDESC:Evenementen voor Gymnastiek vereniging DOS Udenhout
REFRESH-INTERVAL;VALUE=DURATION:PT1H
X-Robots-Tag:noindex
X-PUBLISHED-TTL:PT1H
BEGIN:VTIMEZONE
TZID:Europe/Amsterdam
BEGIN:DAYLIGHT
TZOFFSETFROM:+0100
TZOFFSETTO:+0200
TZNAME:CEST
DTSTART:20140330T010000
END:DAYLIGHT
BEGIN:STANDARD
TZOFFSETFROM:+0200
TZOFFSETTO:+0100
TZNAME:CET
DTSTART:20141026T010000
END:STANDARD
BEGIN:DAYLIGHT
TZOFFSETFROM:+0100
TZOFFSETTO:+0200
TZNAME:CEST
DTSTART:20150329T010000
END:DAYLIGHT
BEGIN:STANDARD
TZOFFSETFROM:+0200
TZOFFSETTO:+0100
TZNAME:CET
DTSTART:20151025T010000
END:STANDARD
BEGIN:DAYLIGHT
TZOFFSETFROM:+0100
TZOFFSETTO:+0200
TZNAME:CEST
DTSTART:20160327T010000
END:DAYLIGHT
BEGIN:STANDARD
TZOFFSETFROM:+0200
TZOFFSETTO:+0100
TZNAME:CET
DTSTART:20161030T010000
END:STANDARD
BEGIN:DAYLIGHT
TZOFFSETFROM:+0100
TZOFFSETTO:+0200
TZNAME:CEST
DTSTART:20170326T010000
END:DAYLIGHT
BEGIN:STANDARD
TZOFFSETFROM:+0200
TZOFFSETTO:+0100
TZNAME:CET
DTSTART:20171029T010000
END:STANDARD
END:VTIMEZONE
BEGIN:VEVENT
DTSTART;VALUE=DATE:20160106
DTEND;VALUE=DATE:20160108
DTSTAMP:20260421T112734
CREATED:20150925T204821Z
LAST-MODIFIED:20150925T204821Z
UID:1123-1452042000-1452128399@www.gvdos.nl
SUMMARY:Bestuursvergadering
DESCRIPTION:
URL:https://www.gvdos.nl/agenda-item/bestuursvergadering-3/
END:VEVENT
BEGIN:VEVENT
DTSTART;VALUE=DATE:20151220
DTEND;VALUE=DATE:20160105
DTSTAMP:20260421T112734
CREATED:20150925T202812Z
LAST-MODIFIED:20150925T202812Z
UID:1113-1450573200-1451869199@www.gvdos.nl
SUMMARY:Kerstvakantie
DESCRIPTION:
URL:https://www.gvdos.nl/agenda-item/kerstvakantie/
END:VEVENT
BEGIN:VEVENT
DTSTART;TZID=Europe/Amsterdam:20151217T090000
DTEND;TZID=Europe/Amsterdam:20151217T180000
DTSTAMP:20260421T112734
CREATED:20150925T203644Z
LAST-MODIFIED:20150925T204028Z
UID:1118-1450342800-1450375200@www.gvdos.nl
SUMMARY:Vergadering Technische Commissie
DESCRIPTION:Tijd en lokatie wordt nog doorgegeven
URL:https://www.gvdos.nl/agenda-item/vergadering-technische-commisie/
END:VEVENT
BEGIN:VEVENT
DTSTART;VALUE=DATE:20151216
DTEND;VALUE=DATE:20151218
DTSTAMP:20260421T112734
CREATED:20150925T201423Z
LAST-MODIFIED:20150925T201423Z
UID:1092-1450227600-1450313999@www.gvdos.nl
SUMMARY:Themales Winter
DESCRIPTION:Het is winter en we gaan in de gymzaal skiën\, sleeën en sneeuwballen gooien.
URL:https://www.gvdos.nl/agenda-item/themales-winter/
END:VEVENT
BEGIN:VEVENT
DTSTART;VALUE=DATE:20151202
DTEND;VALUE=DATE:20151204
DTSTAMP:20260421T112734
CREATED:20150925T201322Z
LAST-MODIFIED:20150925T201322Z
UID:1091-1449018000-1449104399@www.gvdos.nl
SUMMARY:Themales Sinterklaas
DESCRIPTION:We gaan opnieuw aan de slag met de pakjes\, maar deze keer komt zwarte Piet ook op bezoek.
URL:https://www.gvdos.nl/agenda-item/themales-sinterklaas/
END:VEVENT
BEGIN:VEVENT
DTSTART;VALUE=DATE:20151125
DTEND;VALUE=DATE:20151127
DTSTAMP:20260421T112734
CREATED:20150925T204750Z
LAST-MODIFIED:20150925T204750Z
UID:1122-1448413200-1448499599@www.gvdos.nl
SUMMARY:Bestuursvergadering
DESCRIPTION:
URL:https://www.gvdos.nl/agenda-item/bestuursvergadering-2/
END:VEVENT
BEGIN:VEVENT
DTSTART;VALUE=DATE:20151124
DTEND;VALUE=DATE:20151126
DTSTAMP:20260421T112734
CREATED:20150925T201212Z
LAST-MODIFIED:20150925T201212Z
UID:1089-1448406000-1448492399@www.gvdos.nl
SUMMARY:Pietengym
DESCRIPTION:We gaan als echte Pieten een parcours afleggen met pakjes en na afloop krijgen de kinderen een Pietendiploma.
URL:https://www.gvdos.nl/agenda-item/pietengym/
END:VEVENT
BEGIN:VEVENT
DTSTART;VALUE=DATE:20151117
DTEND;VALUE=DATE:20151119
DTSTAMP:20260421T112734
CREATED:20150925T201056Z
LAST-MODIFIED:20150925T201110Z
UID:1088-1447801200-1447887599@www.gvdos.nl
SUMMARY:Stickerkaart 1
DESCRIPTION:De kinderen krijgen als beloning voor hun inzet op het eerste rijtje van de stickerkaart mooie stickers.
URL:https://www.gvdos.nl/agenda-item/stickerkaart-1/
END:VEVENT
BEGIN:VEVENT
DTSTART;TZID=Europe/Amsterdam:20151025T090000
DTEND;TZID=Europe/Amsterdam:20151031T180000
DTSTAMP:20260421T112734
CREATED:20150925T202723Z
LAST-MODIFIED:20150925T202723Z
UID:1112-1445763600-1446314400@www.gvdos.nl
SUMMARY:Herfstvakantie
DESCRIPTION:
URL:https://www.gvdos.nl/agenda-item/herfstvakantie/
END:VEVENT
BEGIN:VEVENT
DTSTART;VALUE=DATE:20151020
DTEND;VALUE=DATE:20151022
DTSTAMP:20260421T112734
CREATED:20150925T200958Z
LAST-MODIFIED:20150925T200958Z
UID:1086-1445382000-1445468399@www.gvdos.nl
SUMMARY:Themales herfst
DESCRIPTION:Het is herfst en we gaan leuke oefeningen doen met regenplassen\, parapluutjes en kastanjes
URL:https://www.gvdos.nl/agenda-item/themales-herfst/
LOCATION:Gymzaal de Schelf\, Tongerloplein\, Udenhout\, Nederland
END:VEVENT
BEGIN:VEVENT
DTSTART;VALUE=DATE:20151014
DTEND;VALUE=DATE:20151016
DTSTAMP:20260421T112734
CREATED:20150925T204717Z
LAST-MODIFIED:20150925T204717Z
UID:1121-1444788000-1444874399@www.gvdos.nl
SUMMARY:Bestuursvergadering.
DESCRIPTION:
URL:https://www.gvdos.nl/agenda-item/bestuursvergadering/
END:VEVENT
BEGIN:VEVENT
DTSTART;TZID=Europe/Amsterdam:20150930T100000
DTEND;TZID=Europe/Amsterdam:20150930T190000
DTSTAMP:20260421T112734
CREATED:20150925T203725Z
LAST-MODIFIED:20150925T203935Z
UID:1119-1443607200-1443639600@www.gvdos.nl
SUMMARY:Vergadering Technische Commissie
DESCRIPTION:Tijd en lokatie wordt nog doorgegeven
URL:https://www.gvdos.nl/agenda-item/vergadering-technische-commisie-2/
END:VEVENT
BEGIN:VEVENT
DTSTART;TZID=Europe/Amsterdam:20150718T230000
DTEND;TZID=Europe/Amsterdam:20150830T230000
DTSTAMP:20260421T112734
CREATED:20141010T130340Z
LAST-MODIFIED:20141010T130340Z
UID:364-1437260400-1440975600@www.gvdos.nl
SUMMARY:zomervakantie
DESCRIPTION:
URL:https://www.gvdos.nl/agenda-item/zomervakantie-2/
END:VEVENT
BEGIN:VEVENT
DTSTART;TZID=Europe/Amsterdam:20150715T143000
DTEND;TZID=Europe/Amsterdam:20150715T163000
DTSTAMP:20260421T112734
CREATED:20141010T130340Z
LAST-MODIFIED:20141010T130340Z
UID:363-1436970600-1436977800@www.gvdos.nl
SUMMARY:peuters kleuters themales jungle
DESCRIPTION:
URL:https://www.gvdos.nl/agenda-item/peuters-kleuters-themales-jungle-2/
END:VEVENT
BEGIN:VEVENT
DTSTART;TZID=Europe/Amsterdam:20150711T110000
DTEND;TZID=Europe/Amsterdam:20150711T123000
DTSTAMP:20260421T112734
CREATED:20141010T130340Z
LAST-MODIFIED:20141010T130340Z
UID:362-1436612400-1436617800@www.gvdos.nl
SUMMARY:Selectieles Springen
DESCRIPTION:
URL:https://www.gvdos.nl/agenda-item/selectieles-springen-29/
END:VEVENT
BEGIN:VEVENT
DTSTART;VALUE=DATE:20150711
DTEND;VALUE=DATE:20150713
DTSTAMP:20260421T112734
CREATED:20141027T182219Z
LAST-MODIFIED:20141027T182219Z
UID:553-1436580000-1436666399@www.gvdos.nl
SUMMARY:springles selectie
DESCRIPTION:individueel
URL:https://www.gvdos.nl/agenda-item/springles-selectie-5/
END:VEVENT
BEGIN:VEVENT
DTSTART;TZID=Europe/Amsterdam:20150701T143000
DTEND;TZID=Europe/Amsterdam:20150701T163000
DTSTAMP:20260421T112734
CREATED:20141010T130340Z
LAST-MODIFIED:20141010T130340Z
UID:361-1435761000-1435768200@www.gvdos.nl
SUMMARY:peuters kleuters stickerkaart 3
DESCRIPTION:
URL:https://www.gvdos.nl/agenda-item/peuters-kleuters-stickerkaart-3-2/
END:VEVENT
BEGIN:VEVENT
DTSTART;TZID=Europe/Amsterdam:20150627T110000
DTEND;TZID=Europe/Amsterdam:20150627T123000
DTSTAMP:20260421T112734
CREATED:20141010T130340Z
LAST-MODIFIED:20141010T130340Z
UID:360-1435402800-1435408200@www.gvdos.nl
SUMMARY:Selectieles Springen
DESCRIPTION:
URL:https://www.gvdos.nl/agenda-item/selectieles-springen-28/
END:VEVENT
BEGIN:VEVENT
DTSTART;VALUE=DATE:20150627
DTEND;VALUE=DATE:20150629
DTSTAMP:20260421T112734
CREATED:20141027T182131Z
LAST-MODIFIED:20141027T182131Z
UID:552-1435370400-1435456799@www.gvdos.nl
SUMMARY:springles selectie
DESCRIPTION:individueel
URL:https://www.gvdos.nl/agenda-item/springles-selectie-4/
END:VEVENT
BEGIN:VEVENT
DTSTART;TZID=Europe/Amsterdam:20150624T183000
DTEND;TZID=Europe/Amsterdam:20150624T213000
DTSTAMP:20260421T112734
CREATED:20141010T130340Z
LAST-MODIFIED:20141010T130340Z
UID:359-1435170600-1435181400@www.gvdos.nl
SUMMARY:Bestuursvergadering GV DOS
DESCRIPTION:
URL:https://www.gvdos.nl/agenda-item/bestuursvergadering-gv-dos-13/
END:VEVENT
BEGIN:VEVENT
DTSTART;TZID=Europe/Amsterdam:20150617T220000
DTEND;TZID=Europe/Amsterdam:20150618T003000
DTSTAMP:20260421T112734
CREATED:20141010T130340Z
LAST-MODIFIED:20141010T130340Z
UID:358-1434578400-1434587400@www.gvdos.nl
SUMMARY:vergadering Technische Commissie
DESCRIPTION:
URL:https://www.gvdos.nl/agenda-item/vergadering-technische-commissie-4/
END:VEVENT
BEGIN:VEVENT
DTSTART;TZID=Europe/Amsterdam:20150613T140000
DTEND;TZID=Europe/Amsterdam:20150613T153000
DTSTAMP:20260421T112734
CREATED:20141010T130340Z
LAST-MODIFIED:20141010T130340Z
UID:357-1434204000-1434209400@www.gvdos.nl
SUMMARY:Selectieles Springen
DESCRIPTION:
URL:https://www.gvdos.nl/agenda-item/selectieles-springen-27/
END:VEVENT
BEGIN:VEVENT
DTSTART;VALUE=DATE:20150613
DTEND;VALUE=DATE:20150616
DTSTAMP:20260421T112734
CREATED:20141027T182003Z
LAST-MODIFIED:20141027T182046Z
UID:550-1434160800-1434333599@www.gvdos.nl
SUMMARY:Ahoy cup Rotterdam  groepsspringen en/of individueel
DESCRIPTION:AHOY Cup Springen \nOmschrijving: \nNog niet duidelijk of het om groepsspringen of individueel springen gaat. \nOok  niveau nog niet duidelijk. \nLater zal gecorrespondeerd worden of  DOS hieraan mee gaat doen… \n 
URL:https://www.gvdos.nl/agenda-item/ahoy-cup-rotterdam-groepsspringen-enof-individueel/
LOCATION:AHOY\, Rotterdam\, Nederland
END:VEVENT
BEGIN:VEVENT
DTSTART;VALUE=DATE:20150606
DTEND;VALUE=DATE:20150608
DTSTAMP:20260421T112734
CREATED:20141027T181423Z
LAST-MODIFIED:20141027T181423Z
UID:548-1433556000-1433642399@www.gvdos.nl
SUMMARY:NK groepsspringen Sittard
DESCRIPTION:NK C ‐Lijn Groepsspringen NK Groepsspringen C Niveau \nOmschrijving: \nSpringers die eerder op A+B Niveau zijn uitgekomen mogen hier niet deelnemen. \nWedstrijd  geldt alleen voor C Team junioren of jeugd van DOS \n 
URL:https://www.gvdos.nl/agenda-item/nk-groepsspringen-sittard/
LOCATION:Onbenoemde locatie\, Sittard
END:VEVENT
BEGIN:VEVENT
DTSTART;VALUE=DATE:20150605
DTEND;VALUE=DATE:20150607
DTSTAMP:20260421T112734
CREATED:20150322T133242Z
LAST-MODIFIED:20150322T133242Z
UID:922-1433545200-1433631599@www.gvdos.nl
SUMMARY:districtsfinale divisie 5 en D2
DESCRIPTION:Waarschijnlijk in Nederweert\, verdere informatie volgt snel
URL:https://www.gvdos.nl/agenda-item/districtsfinale-divisie-5-en-d2/
LOCATION:Onbenoemde locatie\, Nederweert\, Nederland
END:VEVENT
BEGIN:VEVENT
DTSTART;TZID=Europe/Amsterdam:20150530T140000
DTEND;TZID=Europe/Amsterdam:20150530T153000
DTSTAMP:20260421T112734
CREATED:20141010T130340Z
LAST-MODIFIED:20141010T130340Z
UID:356-1432994400-1432999800@www.gvdos.nl
SUMMARY:Selectieles Springen
DESCRIPTION:
URL:https://www.gvdos.nl/agenda-item/selectieles-springen-26/
END:VEVENT
BEGIN:VEVENT
DTSTART;VALUE=DATE:20150529
DTEND;VALUE=DATE:20150531
DTSTAMP:20260421T112734
CREATED:20150322T134358Z
LAST-MODIFIED:20150322T134358Z
UID:925-1432940400-1433026799@www.gvdos.nl
SUMMARY:districtsfinale divisie 4 en D1 in Prinsenbeek
DESCRIPTION:verder informatie volgt snel
URL:https://www.gvdos.nl/agenda-item/districtsfinale-divisie-4-en-d1-in-prinsenbeek-2/
LOCATION:De 3 Linden\, Heisprong 15\, \, Prinsenbeek\, Nederland
END:VEVENT
BEGIN:VEVENT
DTSTART;TZID=Europe/Amsterdam:20150523T230000
DTEND;TZID=Europe/Amsterdam:20150525T230000
DTSTAMP:20260421T112734
CREATED:20141010T130340Z
LAST-MODIFIED:20141010T130340Z
UID:355-1432422000-1432594800@www.gvdos.nl
SUMMARY:pinksteren
DESCRIPTION:
URL:https://www.gvdos.nl/agenda-item/pinksteren-2/
END:VEVENT
BEGIN:VEVENT
DTSTART;TZID=Europe/Amsterdam:20150520T143000
DTEND;TZID=Europe/Amsterdam:20150520T163000
DTSTAMP:20260421T112734
CREATED:20141010T130340Z
LAST-MODIFIED:20141010T130340Z
UID:354-1432132200-1432139400@www.gvdos.nl
SUMMARY:peuters kleuters spelletjescircuit
DESCRIPTION:
URL:https://www.gvdos.nl/agenda-item/peuters-kleuters-spelletjescircuit-2/
END:VEVENT
BEGIN:VEVENT
DTSTART;VALUE=DATE:20150516
DTEND;VALUE=DATE:20150518
DTSTAMP:20260421T112734
CREATED:20150322T133007Z
LAST-MODIFIED:20150322T133007Z
UID:918-1431817200-1431903599@www.gvdos.nl
SUMMARY:vriendschappelijke wedstrijd D2 in Oisterwijk
DESCRIPTION:Verdere informatie volgt snel. \n 
URL:https://www.gvdos.nl/agenda-item/vriendschappelijke-wedstrijd-d2-in-oisterwijk/
LOCATION:Onbenoemde locatie\, Oisterwijk\, Nederland
END:VEVENT
END:VCALENDAR