BEGIN:VCALENDAR
VERSION:2.0
PRODID:-//Gymnastiek vereniging DOS Udenhout - ECPv6.15.18//NONSGML v1.0//EN
CALSCALE:GREGORIAN
METHOD:PUBLISH
X-ORIGINAL-URL:https://www.gvdos.nl
X-WR-CALDESC:Evenementen voor Gymnastiek vereniging DOS Udenhout
REFRESH-INTERVAL;VALUE=DURATION:PT1H
X-Robots-Tag:noindex
X-PUBLISHED-TTL:PT1H
BEGIN:VTIMEZONE
TZID:Europe/Amsterdam
BEGIN:DAYLIGHT
TZOFFSETFROM:+0100
TZOFFSETTO:+0200
TZNAME:CEST
DTSTART:20150329T010000
END:DAYLIGHT
BEGIN:STANDARD
TZOFFSETFROM:+0200
TZOFFSETTO:+0100
TZNAME:CET
DTSTART:20151025T010000
END:STANDARD
BEGIN:DAYLIGHT
TZOFFSETFROM:+0100
TZOFFSETTO:+0200
TZNAME:CEST
DTSTART:20160327T010000
END:DAYLIGHT
BEGIN:STANDARD
TZOFFSETFROM:+0200
TZOFFSETTO:+0100
TZNAME:CET
DTSTART:20161030T010000
END:STANDARD
BEGIN:DAYLIGHT
TZOFFSETFROM:+0100
TZOFFSETTO:+0200
TZNAME:CEST
DTSTART:20170326T010000
END:DAYLIGHT
BEGIN:STANDARD
TZOFFSETFROM:+0200
TZOFFSETTO:+0100
TZNAME:CET
DTSTART:20171029T010000
END:STANDARD
END:VTIMEZONE
BEGIN:VEVENT
DTSTART;TZID=Europe/Amsterdam:20161123T143000
DTEND;TZID=Europe/Amsterdam:20161123T162500
DTSTAMP:20260421T075720
CREATED:20160916T181812Z
LAST-MODIFIED:20160926T182351Z
UID:1387-1479911400-1479918300@www.gvdos.nl
SUMMARY:Peuter-kleutergym - Pietengym
DESCRIPTION:We gaan als echte Pieten een parcours afleggen met pakjes en na afloop krijgen de kinderen een Pietendiploma.
URL:https://www.gvdos.nl/agenda-item/pietengym-2/
END:VEVENT
BEGIN:VEVENT
DTSTART;TZID=Europe/Amsterdam:20161024T070000
DTEND;TZID=Europe/Amsterdam:20161028T160000
DTSTAMP:20260421T075720
CREATED:20161022T114252Z
LAST-MODIFIED:20161022T114912Z
UID:1506-1477292400-1477670400@www.gvdos.nl
SUMMARY:Herfstvakantie - geen les
DESCRIPTION:
URL:https://www.gvdos.nl/agenda-item/herfstvakantie-3/
END:VEVENT
BEGIN:VEVENT
DTSTART;TZID=Europe/Amsterdam:20161019T143000
DTEND;TZID=Europe/Amsterdam:20161019T162500
DTSTAMP:20260421T075720
CREATED:20160916T181613Z
LAST-MODIFIED:20160926T182401Z
UID:1385-1476887400-1476894300@www.gvdos.nl
SUMMARY:Peuter-kleutergym - Themales herfst
DESCRIPTION:Het is herfst en we gaan leuke oefeningen doen met regenplassen\, parapluutjes en kastanjes.
URL:https://www.gvdos.nl/agenda-item/themales-herfst-2/
END:VEVENT
BEGIN:VEVENT
DTSTART;TZID=Europe/Amsterdam:20161016T083000
DTEND;TZID=Europe/Amsterdam:20161016T140000
DTSTAMP:20260421T075720
CREATED:20160917T064519Z
LAST-MODIFIED:20160917T064519Z
UID:1397-1476606600-1476626400@www.gvdos.nl
SUMMARY:DOS Gezinsdag
DESCRIPTION:
URL:https://www.gvdos.nl/agenda-item/dos-gezinsdag/
END:VEVENT
BEGIN:VEVENT
DTSTART;TZID=Europe/Amsterdam:20160921T143000
DTEND;TZID=Europe/Amsterdam:20160921T162500
DTSTAMP:20260421T075720
CREATED:20160916T181453Z
LAST-MODIFIED:20160926T182411Z
UID:1384-1474468200-1474475100@www.gvdos.nl
SUMMARY:Peuter-kleutergym - Vriendjesles
DESCRIPTION:De kinderen mogen een vriendje (van dezelfde leeftijd) meenemen die gezellig een keer mee kan gymmen.
URL:https://www.gvdos.nl/agenda-item/vriendjesles/
END:VEVENT
BEGIN:VEVENT
DTSTART;VALUE=DATE:20160724
DTEND;VALUE=DATE:20160906
DTSTAMP:20260421T075720
CREATED:20150925T202959Z
LAST-MODIFIED:20150925T203029Z
UID:1116-1469325600-1473040799@www.gvdos.nl
SUMMARY:Zomervakantie
DESCRIPTION:
URL:https://www.gvdos.nl/agenda-item/zomervakantie/
END:VEVENT
BEGIN:VEVENT
DTSTART;VALUE=DATE:20160720
DTEND;VALUE=DATE:20160722
DTSTAMP:20260421T075720
CREATED:20150925T202401Z
LAST-MODIFIED:20150925T202401Z
UID:1108-1468980000-1469066399@www.gvdos.nl
SUMMARY:Themales Jungle
DESCRIPTION:De laatste les kunnen de kinderen zich uitleven in de jungle en sluiten we het seizoen gezellig samen af.
URL:https://www.gvdos.nl/agenda-item/themales-jungle/
END:VEVENT
BEGIN:VEVENT
DTSTART;VALUE=DATE:20160706
DTEND;VALUE=DATE:20160708
DTSTAMP:20260421T075720
CREATED:20150925T202258Z
LAST-MODIFIED:20150925T202258Z
UID:1106-1467770400-1467856799@www.gvdos.nl
SUMMARY:Stickerkaart 3
DESCRIPTION:De kinderen krijgen als afsluiting een derde rijtje stickers en een mooi diploma.
URL:https://www.gvdos.nl/agenda-item/stickerkaart-3/
END:VEVENT
BEGIN:VEVENT
DTSTART;VALUE=DATE:20160622
DTEND;VALUE=DATE:20160624
DTSTAMP:20260421T075720
CREATED:20150925T204950Z
LAST-MODIFIED:20150925T204950Z
UID:1126-1466560800-1466647199@www.gvdos.nl
SUMMARY:Bestuursvergadering
DESCRIPTION:
URL:https://www.gvdos.nl/agenda-item/bestuursvergadering-6/
END:VEVENT
BEGIN:VEVENT
DTSTART;TZID=Europe/Amsterdam:20160615T100000
DTEND;TZID=Europe/Amsterdam:20160615T190000
DTSTAMP:20260421T075720
CREATED:20150925T203811Z
LAST-MODIFIED:20150925T203900Z
UID:1120-1465984800-1466017200@www.gvdos.nl
SUMMARY:Vergadering Technische Commissie
DESCRIPTION:Tijd en lokatie wordt nog doorgegeven
URL:https://www.gvdos.nl/agenda-item/vergadering-technische-commisie-3/
END:VEVENT
BEGIN:VEVENT
DTSTART;VALUE=DATE:20160610
DTEND;VALUE=DATE:20160612
DTSTAMP:20260421T075720
CREATED:20151005T180628Z
LAST-MODIFIED:20151005T181959Z
UID:1150-1465599600-1465685999@www.gvdos.nl
SUMMARY:Districtsfinale Divisie 4 - Dames 1
DESCRIPTION:organisatie: Helden/Panningen \nverder info volgt binnenkort
URL:https://www.gvdos.nl/agenda-item/districtsfinale-divisie-4-dames-1/
LOCATION:Onbenoemde locatie\, Helden /Panningen
END:VEVENT
BEGIN:VEVENT
DTSTART;VALUE=DATE:20160525
DTEND;VALUE=DATE:20160527
DTSTAMP:20260421T075720
CREATED:20150925T202207Z
LAST-MODIFIED:20150925T202207Z
UID:1105-1464141600-1464227999@www.gvdos.nl
SUMMARY:Spelletjescircuit
DESCRIPTION:In groepjes gaan de kinderen een spelletjescircuit volgen en proberen ze zoveel mogelijk punten te behalen.
URL:https://www.gvdos.nl/agenda-item/spelletjescircuit/
END:VEVENT
BEGIN:VEVENT
DTSTART;VALUE=DATE:20160521
DTEND;VALUE=DATE:20160523
DTSTAMP:20260421T075720
CREATED:20151005T181302Z
LAST-MODIFIED:20151005T181302Z
UID:1158-1463871600-1463957999@www.gvdos.nl
SUMMARY:Toestelfinales Divisie 5 - Dames 2
DESCRIPTION:toestelfinales \norganisatie: De Molenwiek\, Asten.
URL:https://www.gvdos.nl/agenda-item/toestelfinales-divisie-5-dames-2/
LOCATION:Onbenoemde locatie\, Asten
END:VEVENT
BEGIN:VEVENT
DTSTART;VALUE=DATE:20160521
DTEND;VALUE=DATE:20160523
DTSTAMP:20260421T075720
CREATED:20151005T180453Z
LAST-MODIFIED:20151005T182036Z
UID:1149-1463871600-1463957999@www.gvdos.nl
SUMMARY:Toestelfinales Divisie 4 - Dames 1
DESCRIPTION:toestelfinales  \norganisatie: De Molenwiek\, Asten  \nverder informatie volgt binnenkort \n 
URL:https://www.gvdos.nl/agenda-item/toestelfinales-divisie-4-dames-1/
LOCATION:Onbenoemde locatie\, Asten
END:VEVENT
BEGIN:VEVENT
DTSTART;VALUE=DATE:20160520
DTEND;VALUE=DATE:20160521
DTSTAMP:20260421T075720
CREATED:20151005T181109Z
LAST-MODIFIED:20151005T181109Z
UID:1155-1463785200-1463785200@www.gvdos.nl
SUMMARY:Districtsfinale Divisie 5 - Dames 2
DESCRIPTION:21 mei 2016\n\ndistrictsfinale \norganisatie: De Molenwiek\, Asten
URL:https://www.gvdos.nl/agenda-item/districtsfinale-divisie-5-dames-2/
LOCATION:Onbenoemde locatie\, Asten
END:VEVENT
BEGIN:VEVENT
DTSTART;VALUE=DATE:20160511
DTEND;VALUE=DATE:20160513
DTSTAMP:20260421T075720
CREATED:20150925T204923Z
LAST-MODIFIED:20150925T204923Z
UID:1125-1462932000-1463018399@www.gvdos.nl
SUMMARY:Bestuursvergadering
DESCRIPTION:
URL:https://www.gvdos.nl/agenda-item/bestuursvergadering-5/
END:VEVENT
BEGIN:VEVENT
DTSTART;VALUE=DATE:20160424
DTEND;VALUE=DATE:20160510
DTSTAMP:20260421T075720
CREATED:20150925T202938Z
LAST-MODIFIED:20150925T202938Z
UID:1115-1461463200-1462759199@www.gvdos.nl
SUMMARY:Mei vakantie
DESCRIPTION:
URL:https://www.gvdos.nl/agenda-item/mei-vakantie/
END:VEVENT
BEGIN:VEVENT
DTSTART;TZID=Europe/Amsterdam:20160417T093000
DTEND;TZID=Europe/Amsterdam:20160417T143000
DTSTAMP:20260421T075720
CREATED:20160222T165119Z
LAST-MODIFIED:20160222T165528Z
UID:1269-1460885400-1460903400@www.gvdos.nl
SUMMARY:Jubileumshow 70 jaar GVDOS
DESCRIPTION:JUBILEUMSHOW \n10:30 – 12:30 Jubileumshow 70 jaar DOS (alleen voor genodigde) \n13:30 – 15:30 Jubileumshow 70 jaar DOS (alleen voor genodigde)
URL:https://www.gvdos.nl/agenda-item/jubileumshow-70-jaar-gvdos/
LOCATION:Sporthal de Roomleij\, Groenvelde\, Udenhout\, Nederland
END:VEVENT
BEGIN:VEVENT
DTSTART;TZID=Europe/Amsterdam:20160416T130000
DTEND;TZID=Europe/Amsterdam:20160416T193000
DTSTAMP:20260421T075720
CREATED:20150925T202608Z
LAST-MODIFIED:20160222T165156Z
UID:1111-1460811600-1460835000@www.gvdos.nl
SUMMARY:Jubileumshow 70 jaar GVDOS
DESCRIPTION:JUBILEUMSHOW \n14:00 – 16:00 Jubileumshow 70 jaar DOS (alleen voor genodigde) \n18:30 – 20:30 Jubileumshow 70 jaar DOS (alleen voor genodigde) \n 
URL:https://www.gvdos.nl/agenda-item/tino-van-loenhout-clubkampioenschappen-2/
LOCATION:Sporthal de Roomleij\, Groenvelde\, Udenhout\, Nederland
END:VEVENT
BEGIN:VEVENT
DTSTART;VALUE=DATE:20160409
DTEND;VALUE=DATE:20160411
DTSTAMP:20260421T075720
CREATED:20151005T180946Z
LAST-MODIFIED:20151005T180946Z
UID:1153-1460242800-1460329199@www.gvdos.nl
SUMMARY:Regiofinale Divisie 5  - Dames 2
DESCRIPTION:regiofinale \norganisatie: Tonido\, Valkenswaard \n 
URL:https://www.gvdos.nl/agenda-item/regiofinale-divisie-5-dames-2/
LOCATION:Onbenoemde locatie\, Valkenswaard
END:VEVENT
BEGIN:VEVENT
DTSTART;VALUE=DATE:20160408
DTEND;VALUE=DATE:20160410
DTSTAMP:20260421T075720
CREATED:20151005T180303Z
LAST-MODIFIED:20151005T180303Z
UID:1148-1460156400-1460242799@www.gvdos.nl
SUMMARY:Regio finale Divise 4  - Dames 1
DESCRIPTION:Regio finale \norganisatie Tonido Valkenswaard. \nverdere info volgt binnenkort
URL:https://www.gvdos.nl/agenda-item/regio-finale-divise-4-dames-1/
END:VEVENT
BEGIN:VEVENT
DTSTART;VALUE=DATE:20160406
DTEND;VALUE=DATE:20160408
DTSTAMP:20260421T075720
CREATED:20150925T202110Z
LAST-MODIFIED:20150925T202124Z
UID:1104-1459908000-1459994399@www.gvdos.nl
SUMMARY:Stickerkaart 2
DESCRIPTION:De kinderen krijgen een tweede rijtje stickers op hun kaart.
URL:https://www.gvdos.nl/agenda-item/stickerkaart-2/
END:VEVENT
BEGIN:VEVENT
DTSTART;VALUE=DATE:20160330
DTEND;VALUE=DATE:20160401
DTSTAMP:20260421T075720
CREATED:20150925T204851Z
LAST-MODIFIED:20150925T204851Z
UID:1124-1459303200-1459389599@www.gvdos.nl
SUMMARY:Bestuursvergadering
DESCRIPTION:
URL:https://www.gvdos.nl/agenda-item/bestuursvergadering-4/
END:VEVENT
BEGIN:VEVENT
DTSTART;VALUE=DATE:20160323
DTEND;VALUE=DATE:20160325
DTSTAMP:20260421T075720
CREATED:20150925T201945Z
LAST-MODIFIED:20150925T201945Z
UID:1100-1458694800-1458781199@www.gvdos.nl
SUMMARY:Themales Pasen
DESCRIPTION:We gaan eieren zoeken en daarna leuke gymopdrachten uitvoeren met de eieren.
URL:https://www.gvdos.nl/agenda-item/themales-pasen/
END:VEVENT
BEGIN:VEVENT
DTSTART;TZID=Europe/Amsterdam:20160321T090000
DTEND;TZID=Europe/Amsterdam:20160321T180000
DTSTAMP:20260421T075720
CREATED:20150925T203440Z
LAST-MODIFIED:20150925T204153Z
UID:1117-1458550800-1458583200@www.gvdos.nl
SUMMARY:Vergadering Technische Commissie
DESCRIPTION:Tijd en lokatie wordt nog doorgegeven
URL:https://www.gvdos.nl/agenda-item/vergaderingen-van-de-technische-commissie/
END:VEVENT
BEGIN:VEVENT
DTSTART;VALUE=DATE:20160311
DTEND;VALUE=DATE:20160314
DTSTAMP:20260421T075720
CREATED:20151005T180813Z
LAST-MODIFIED:20151005T180813Z
UID:1151-1457737200-1457909999@www.gvdos.nl
SUMMARY:Voorwedstrijd  Divisie 5 - Dames 2
DESCRIPTION:12-13 maart 2016\n\nvoorwedstrijd \norganisatie: De Meere\, Boxmeer \n 
URL:https://www.gvdos.nl/agenda-item/voorwedstrijd-divisie-5-dames-2/
LOCATION:Onbenoemde locatie\, Boxmeer
END:VEVENT
BEGIN:VEVENT
DTSTART;VALUE=DATE:20160226
DTEND;VALUE=DATE:20160229
DTSTAMP:20260421T075720
CREATED:20151005T180059Z
LAST-MODIFIED:20151005T180059Z
UID:1146-1456527600-1456700399@www.gvdos.nl
SUMMARY:Voorwedstrijd Divisie 4  - Dames 1
DESCRIPTION:Voorwedstrijd \norganisatie: Sine Cura\, Heeswijk-Dinther. \nverdere info volgt binnenkort
URL:https://www.gvdos.nl/agenda-item/voorwedstrijd-divisie-4-dames-1/
LOCATION:Onbenoemde locatie\, Heeswijk - Dinther
END:VEVENT
BEGIN:VEVENT
DTSTART;VALUE=DATE:20160207
DTEND;VALUE=DATE:20160216
DTSTAMP:20260421T075720
CREATED:20150925T202855Z
LAST-MODIFIED:20150925T202855Z
UID:1114-1454806800-1455497999@www.gvdos.nl
SUMMARY:Voorjaarsvakantie
DESCRIPTION:
URL:https://www.gvdos.nl/agenda-item/voorjaarsvakantie/
END:VEVENT
BEGIN:VEVENT
DTSTART;VALUE=DATE:20160203
DTEND;VALUE=DATE:20160205
DTSTAMP:20260421T075720
CREATED:20150925T201839Z
LAST-MODIFIED:20150925T201839Z
UID:1099-1454461200-1454547599@www.gvdos.nl
SUMMARY:Themales carnaval
DESCRIPTION:Het wordt feest in de gymzaal met ballonnen en verkleedkleren!
URL:https://www.gvdos.nl/agenda-item/themales-carnaval/
END:VEVENT
BEGIN:VEVENT
DTSTART;TZID=Europe/Amsterdam:20160127T090000
DTEND;TZID=Europe/Amsterdam:20160127T180000
DTSTAMP:20260421T075720
CREATED:20150925T201536Z
LAST-MODIFIED:20150925T201536Z
UID:1094-1453885200-1453917600@www.gvdos.nl
SUMMARY:Ouderles
DESCRIPTION:Ouders mogen vandaag mee gymmen. (Kunt u zelf niet\, dan mag natuurlijk ook een andere volwassene meedoen met uw kind).
URL:https://www.gvdos.nl/agenda-item/ouderles/
END:VEVENT
END:VCALENDAR