BEGIN:VCALENDAR
VERSION:2.0
PRODID:-//Gymnastiek vereniging DOS Udenhout - ECPv6.15.18//NONSGML v1.0//EN
CALSCALE:GREGORIAN
METHOD:PUBLISH
X-ORIGINAL-URL:https://www.gvdos.nl
X-WR-CALDESC:Evenementen voor Gymnastiek vereniging DOS Udenhout
REFRESH-INTERVAL;VALUE=DURATION:PT1H
X-Robots-Tag:noindex
X-PUBLISHED-TTL:PT1H
BEGIN:VTIMEZONE
TZID:Europe/Amsterdam
BEGIN:DAYLIGHT
TZOFFSETFROM:+0100
TZOFFSETTO:+0200
TZNAME:CEST
DTSTART:20250330T010000
END:DAYLIGHT
BEGIN:STANDARD
TZOFFSETFROM:+0200
TZOFFSETTO:+0100
TZNAME:CET
DTSTART:20251026T010000
END:STANDARD
BEGIN:DAYLIGHT
TZOFFSETFROM:+0100
TZOFFSETTO:+0200
TZNAME:CEST
DTSTART:20260329T010000
END:DAYLIGHT
BEGIN:STANDARD
TZOFFSETFROM:+0200
TZOFFSETTO:+0100
TZNAME:CET
DTSTART:20261025T010000
END:STANDARD
BEGIN:DAYLIGHT
TZOFFSETFROM:+0100
TZOFFSETTO:+0200
TZNAME:CEST
DTSTART:20270328T010000
END:DAYLIGHT
BEGIN:STANDARD
TZOFFSETFROM:+0200
TZOFFSETTO:+0100
TZNAME:CET
DTSTART:20271031T010000
END:STANDARD
END:VTIMEZONE
BEGIN:VEVENT
DTSTART;VALUE=DATE:20260328
DTEND;VALUE=DATE:20260329
DTSTAMP:20260421T022001
CREATED:20251213T115857Z
LAST-MODIFIED:20260320T183800Z
UID:4317-1774656000-1774742399@www.gvdos.nl
SUMMARY:Plaatsing NK individueel springen
DESCRIPTION:Graag één uur vooraf aanwezig op locatie. De afstand vanaf Udenhout is ca 200 kilometer / ca 2\,5 uur rijden. \nOnderstaande tijden zijn vanaf https://dutchgymnastics.nl/wedstrijden-en-uitslagen?event=2615 \n  \n\n\n\n\n\n\n\n\n\n\n\nRonde\nTijd\nWie\nBaan\nCategorie\nOnderdeel\nAfstelling/toestel\n\n\n\n\n\n\n\n\n\n\n\n1\n08:30\nLässe (322)\, Fynn (321)\n4\nHeren jeugd B\nMini\nMD40\n\n\n3\n08:56\nLua Rey (108)\, Evi (107)\, Noa (109)\, Vienna (77)\, Mia (78)\n3\nDames Jeugd C\nMini\nMD40\n\n\n5\n09:22\nYoshua (237)\n2\nHeren jeugd C\nPega\n125\n\n\n7\n09:48\nFleur (285)\n6\nDames Jeugd B\nAirtrack\n40\n\n\n8\n10:01\nAmélie (79)\, Lexi (80)\n3\nDames Jeugd C\nMini\nMD40\n\n\n8\n10:01\nYoshua (237)\n4\nHeren jeugd C\nMini\nMD40\n\n\n9\n10:19\nVienna (77)\, Janne (283)\, Lisa (284)\n5\nDames Jeugd C\nAirtrack\n40\n\n\n12\n11:00\nFleur (285)\, Janne (283)\, Lisa (284)\n4\nDames Jeugd B\nMini\nMD40\n\n\n15\n11:39\nJanne (283)\, Lisa (284)\, Fleur (285)\n2\nDames Jeugd B\nPega\n135\n\n\n16\n11:52\nYoshua (237)\n6\nHeren jeugd C\nAirtrack\n40\n\n\n19\n12:31\nVienna (77)\, Mia (78)\, Amélie (79)\, Lexi (80)\n1\nDames Jeugd C\nPega\n125\n\n\n19\n12:31\nLässe (322)\, Fynn (321)\n6\nHeren jeugd B\nAirtrack\n40\n\n\n25\n13:49\nEvi (107)\, Lua Rey (108)\, Noa (109)\n1\nDames Jeugd C\nPega\n115\n\n\n25\n13:49\nLässe (322)\, Fynn (321)\n2\nHeren jeugd B\nPega\n135\n\n\n27\n14:20\nDafne (458)\, Lindy (396)\n6\nDames Senior C\nAitrack\n60\n\n\n30\n14:59\nMaxime (343)\, Femke (344)\n2\nDames Senior C\nPega\n165\n\n\n35\n16:04\nDafne (458)\, Lindy (396)\n4\nDames Senior C\nMini\nMD40\n\n\n41\n17:22\nMazon (397)\, Maxime (343)\, Femke (344)\n3\nDames Senior B\nMini\nMD40\n\n\n43\n17:48\nLindy (396)\, Mazon (397)\n2\nDames Senior C\nPega\n155\n\n\n44\n18:01\nFemke (344)\n6\nDames Senior A\nAirtrack\n60\n\n\n53\n20:03\nMaxime (343)\n5\nDames Senior B\nAirtrack\n60
URL:https://www.gvdos.nl/agenda-item/plaatsing-individueel/
LOCATION:Sportfun\, Joure\, Sewei 3\, Joure\, Friesland\, 8501 SP\, Netherlands
CATEGORIES:Springturnen
END:VEVENT
BEGIN:VEVENT
DTSTART;TZID=Europe/Amsterdam:20260411T083000
DTEND;TZID=Europe/Amsterdam:20260411T190000
DTSTAMP:20260421T022001
CREATED:20251213T120006Z
LAST-MODIFIED:20260214T152842Z
UID:4320-1775896200-1775934000@www.gvdos.nl
SUMMARY:Clubkampioenschappen
DESCRIPTION:
URL:https://www.gvdos.nl/agenda-item/clubkampioenschappen/
LOCATION:Sporthal de Roomleij\, Groenvelde\, Udenhout\, Nederland
END:VEVENT
BEGIN:VEVENT
DTSTART;VALUE=DATE:20260509
DTEND;VALUE=DATE:20260511
DTSTAMP:20260421T022001
CREATED:20251213T120104Z
LAST-MODIFIED:20260320T183625Z
UID:4322-1778284800-1778457599@www.gvdos.nl
SUMMARY:Plaatsing individueel
DESCRIPTION:
URL:https://www.gvdos.nl/agenda-item/plaatsing-individueel-2/
LOCATION:Haarlemmermeer
CATEGORIES:Springturnen
END:VEVENT
BEGIN:VEVENT
DTSTART;VALUE=DATE:20260627
DTEND;VALUE=DATE:20260629
DTSTAMP:20260421T022001
CREATED:20251213T120157Z
LAST-MODIFIED:20251213T120356Z
UID:4325-1782518400-1782691199@www.gvdos.nl
SUMMARY:NK - Ahoy
DESCRIPTION:
URL:https://www.gvdos.nl/agenda-item/nk/
LOCATION:Rotterdam
END:VEVENT
END:VCALENDAR