BEGIN:VCALENDAR
VERSION:2.0
PRODID:-//Gymnastiek vereniging DOS Udenhout - ECPv6.15.18//NONSGML v1.0//EN
CALSCALE:GREGORIAN
METHOD:PUBLISH
X-WR-CALNAME:Gymnastiek vereniging DOS Udenhout
X-ORIGINAL-URL:https://www.gvdos.nl
X-WR-CALDESC:Evenementen voor Gymnastiek vereniging DOS Udenhout
REFRESH-INTERVAL;VALUE=DURATION:PT1H
X-Robots-Tag:noindex
X-PUBLISHED-TTL:PT1H
BEGIN:VTIMEZONE
TZID:Europe/Amsterdam
BEGIN:DAYLIGHT
TZOFFSETFROM:+0100
TZOFFSETTO:+0200
TZNAME:CEST
DTSTART:20250330T010000
END:DAYLIGHT
BEGIN:STANDARD
TZOFFSETFROM:+0200
TZOFFSETTO:+0100
TZNAME:CET
DTSTART:20251026T010000
END:STANDARD
BEGIN:DAYLIGHT
TZOFFSETFROM:+0100
TZOFFSETTO:+0200
TZNAME:CEST
DTSTART:20260329T010000
END:DAYLIGHT
BEGIN:STANDARD
TZOFFSETFROM:+0200
TZOFFSETTO:+0100
TZNAME:CET
DTSTART:20261025T010000
END:STANDARD
BEGIN:DAYLIGHT
TZOFFSETFROM:+0100
TZOFFSETTO:+0200
TZNAME:CEST
DTSTART:20270328T010000
END:DAYLIGHT
BEGIN:STANDARD
TZOFFSETFROM:+0200
TZOFFSETTO:+0100
TZNAME:CET
DTSTART:20271031T010000
END:STANDARD
END:VTIMEZONE
BEGIN:VEVENT
DTSTART;TZID=Europe/Amsterdam:20260308T110000
DTEND;TZID=Europe/Amsterdam:20260308T134500
DTSTAMP:20260420T185818
CREATED:20251213T121937Z
LAST-MODIFIED:20260127T152415Z
UID:4330-1772967600-1772977500@www.gvdos.nl
SUMMARY:Turnwedstrijd T-Kwadraat - Wedstrijd 2
DESCRIPTION:Inhaalwedstrijd van 11 januari \nWedstrijd 2\, baan 1\nVolgorde: vloer\, sprong\, brug\, balk \n11:00 omgekleed aanwezig\n13:45 einde wedstrijd \nSaar\, Rosa\, Amélie\, Vienna en Benthe
URL:https://www.gvdos.nl/agenda-item/turnwedstrijd-t-kwadraat/
LOCATION:T-Kwadraat\, Tilburg
END:VEVENT
BEGIN:VEVENT
DTSTART;TZID=Europe/Amsterdam:20260308T140000
DTEND;TZID=Europe/Amsterdam:20260308T164500
DTSTAMP:20260420T185818
CREATED:20251213T122239Z
LAST-MODIFIED:20260127T152759Z
UID:4333-1772978400-1772988300@www.gvdos.nl
SUMMARY:Turnwedstrijd T-Kwadraat - Wedstrijd 3
DESCRIPTION:Inhaalwedstrijd van 11 januari \nWedstrijd 3 baan 1\nVolgorde: sprong\, brug\, balk\, vloer\n14:00 omgekleed aanwezig\n16:45 einde wedstrijd \nLena\, Evi\, Imme\, Lexi\, Sophie en Noor
URL:https://www.gvdos.nl/agenda-item/turnwedstrijd-t-kwadraat-wedstrijd-3/
END:VEVENT
END:VCALENDAR