BEGIN:VCALENDAR
VERSION:2.0
PRODID:-//Gymnastiek vereniging DOS Udenhout - ECPv6.15.18//NONSGML v1.0//EN
CALSCALE:GREGORIAN
METHOD:PUBLISH
X-WR-CALNAME:Gymnastiek vereniging DOS Udenhout
X-ORIGINAL-URL:https://www.gvdos.nl
X-WR-CALDESC:Evenementen voor Gymnastiek vereniging DOS Udenhout
REFRESH-INTERVAL;VALUE=DURATION:PT1H
X-Robots-Tag:noindex
X-PUBLISHED-TTL:PT1H
BEGIN:VTIMEZONE
TZID:Europe/Amsterdam
BEGIN:DAYLIGHT
TZOFFSETFROM:+0100
TZOFFSETTO:+0200
TZNAME:CEST
DTSTART:20250330T010000
END:DAYLIGHT
BEGIN:STANDARD
TZOFFSETFROM:+0200
TZOFFSETTO:+0100
TZNAME:CET
DTSTART:20251026T010000
END:STANDARD
BEGIN:DAYLIGHT
TZOFFSETFROM:+0100
TZOFFSETTO:+0200
TZNAME:CEST
DTSTART:20260329T010000
END:DAYLIGHT
BEGIN:STANDARD
TZOFFSETFROM:+0200
TZOFFSETTO:+0100
TZNAME:CET
DTSTART:20261025T010000
END:STANDARD
BEGIN:DAYLIGHT
TZOFFSETFROM:+0100
TZOFFSETTO:+0200
TZNAME:CEST
DTSTART:20270328T010000
END:DAYLIGHT
BEGIN:STANDARD
TZOFFSETFROM:+0200
TZOFFSETTO:+0100
TZNAME:CET
DTSTART:20271031T010000
END:STANDARD
END:VTIMEZONE
BEGIN:VEVENT
DTSTART;VALUE=DATE:20260208
DTEND;VALUE=DATE:20260209
DTSTAMP:20260420T204123
CREATED:20251213T115549Z
LAST-MODIFIED:20260130T194848Z
UID:4314-1770508800-1770595199@www.gvdos.nl
SUMMARY:Plaatsingswedstrijd Micro (jeugd\, junior\, senior)
DESCRIPTION:Ochtend wedstrijd. Aanwezig: 8.15 uur. Bekendmaking doorstroom: 12.05 uur.\nRonde 1 – Super Spetters – baan 4 mini/pega – muziek 1\nRonde 7- Spetter Fun Force -baan 4 mini/pega – muziek 7\nRonde 11 – Spetter Squad – baan 2 mini/pega – muziek 11\nRonde 12 – Spetter Force – baan 2 mini/pega – muziek 12\nRonde 16 – Super Spetters – baan 3 air – muziek 1\nRonde 22 – Spetter Fun Force – baan 3 air – muziek 7\nRonde 28 – Spetter Squad – baan 1 air – muziek 13\nRonde 29 – Spetter Force – baan 1 air – muziek 14 \nMiddag wedstrijd. Aanwezig: 11.45 uur. Bekendmaking doorstroom: 15.20 uur.\nRonde 4 – Vrolijke Spetters – baan 4 mini/pega – muziek 4\nRonde 4 – Schattige Spetters – baan 3 air – muziek 4\nRonde 10 – Stoere Spetters – baan 2 mini/pega – muziek 10\nRonde 13 – Vrolijke Spetters – baan 3 air – muziek 13\nRonde 13 – Schattige Spetters – baan 4 mini/pega – muziek 13\nRonde 18 – Stoere Spetters – baan 1 air – muziek 3 \nAvond wedstrijd. Aanwezig 14.45 uur. Bekendmaking doorstroom: 18.45 uur.\nRonde 3 – Jump for Joy – baan 4 mini/pega – muziek 12\nRonde 4 – Stralende Spetters – baan 1 air – muziek 13\nRonde 13 – Stralende Spetters – baan 2 mini/pega – muziek 7\nBaan 16 – Jump for Joy – baan 3 air – muziek 10
URL:https://www.gvdos.nl/agenda-item/plaatsing-micro-jeugd-junior-senior-2/
LOCATION:Vroomshoop\, Burgemeester Koetjestraat 2-4\, Vroomshoop\, Overijssel\, 7681 ZP
END:VEVENT
END:VCALENDAR