BEGIN:VCALENDAR
VERSION:2.0
PRODID:-//Gymnastiek vereniging DOS Udenhout - ECPv6.15.18//NONSGML v1.0//EN
CALSCALE:GREGORIAN
METHOD:PUBLISH
X-WR-CALNAME:Gymnastiek vereniging DOS Udenhout
X-ORIGINAL-URL:https://www.gvdos.nl
X-WR-CALDESC:Evenementen voor Gymnastiek vereniging DOS Udenhout
REFRESH-INTERVAL;VALUE=DURATION:PT1H
X-Robots-Tag:noindex
X-PUBLISHED-TTL:PT1H
BEGIN:VTIMEZONE
TZID:Europe/Amsterdam
BEGIN:DAYLIGHT
TZOFFSETFROM:+0100
TZOFFSETTO:+0200
TZNAME:CEST
DTSTART:20250330T010000
END:DAYLIGHT
BEGIN:STANDARD
TZOFFSETFROM:+0200
TZOFFSETTO:+0100
TZNAME:CET
DTSTART:20251026T010000
END:STANDARD
BEGIN:DAYLIGHT
TZOFFSETFROM:+0100
TZOFFSETTO:+0200
TZNAME:CEST
DTSTART:20260329T010000
END:DAYLIGHT
BEGIN:STANDARD
TZOFFSETFROM:+0200
TZOFFSETTO:+0100
TZNAME:CET
DTSTART:20261025T010000
END:STANDARD
BEGIN:DAYLIGHT
TZOFFSETFROM:+0100
TZOFFSETTO:+0200
TZNAME:CEST
DTSTART:20270328T010000
END:DAYLIGHT
BEGIN:STANDARD
TZOFFSETFROM:+0200
TZOFFSETTO:+0100
TZNAME:CET
DTSTART:20271031T010000
END:STANDARD
END:VTIMEZONE
BEGIN:VEVENT
DTSTART;VALUE=DATE:20260207
DTEND;VALUE=DATE:20260208
DTSTAMP:20260420T204134
CREATED:20251213T115451Z
LAST-MODIFIED:20251213T115734Z
UID:4312-1770422400-1770508799@www.gvdos.nl
SUMMARY:Plaatsing Micro (jeugd\, junior\, senior)
DESCRIPTION:
URL:https://www.gvdos.nl/agenda-item/plaatsing-micro-jeugd-junior-senior/
LOCATION:Vroomshoop\, Burgemeester Koetjestraat 2-4\, Vroomshoop\, Overijssel\, 7681 ZP
END:VEVENT
BEGIN:VEVENT
DTSTART;TZID=Europe/Amsterdam:20260207T154500
DTEND;TZID=Europe/Amsterdam:20260207T183000
DTSTAMP:20260420T204134
CREATED:20251213T122552Z
LAST-MODIFIED:20251213T122730Z
UID:4336-1770479100-1770489000@www.gvdos.nl
SUMMARY:Turnwedstrijd - Oss
DESCRIPTION:15:45 omgekleed aanwezig\n18:30 einde wedstrijd\nvolgorde: balk\, vloer\, sprong\, brug \nElla\, Lisa\, Fleur\, Janne\, Ize
URL:https://www.gvdos.nl/agenda-item/turnwedstrijd-oss/
LOCATION:De Rusheuvel\, Rusheuvelstraat 5\, Oss
END:VEVENT
END:VCALENDAR