BEGIN:VCALENDAR
VERSION:2.0
PRODID:-//Gymnastiek vereniging DOS Udenhout - ECPv6.15.18//NONSGML v1.0//EN
CALSCALE:GREGORIAN
METHOD:PUBLISH
X-WR-CALNAME:Gymnastiek vereniging DOS Udenhout
X-ORIGINAL-URL:https://www.gvdos.nl
X-WR-CALDESC:Evenementen voor Gymnastiek vereniging DOS Udenhout
REFRESH-INTERVAL;VALUE=DURATION:PT1H
X-Robots-Tag:noindex
X-PUBLISHED-TTL:PT1H
BEGIN:VTIMEZONE
TZID:Europe/Amsterdam
BEGIN:DAYLIGHT
TZOFFSETFROM:+0100
TZOFFSETTO:+0200
TZNAME:CEST
DTSTART:20230326T010000
END:DAYLIGHT
BEGIN:STANDARD
TZOFFSETFROM:+0200
TZOFFSETTO:+0100
TZNAME:CET
DTSTART:20231029T010000
END:STANDARD
BEGIN:DAYLIGHT
TZOFFSETFROM:+0100
TZOFFSETTO:+0200
TZNAME:CEST
DTSTART:20240331T010000
END:DAYLIGHT
BEGIN:STANDARD
TZOFFSETFROM:+0200
TZOFFSETTO:+0100
TZNAME:CET
DTSTART:20241027T010000
END:STANDARD
BEGIN:DAYLIGHT
TZOFFSETFROM:+0100
TZOFFSETTO:+0200
TZNAME:CEST
DTSTART:20250330T010000
END:DAYLIGHT
BEGIN:STANDARD
TZOFFSETFROM:+0200
TZOFFSETTO:+0100
TZNAME:CET
DTSTART:20251026T010000
END:STANDARD
END:VTIMEZONE
BEGIN:VEVENT
DTSTART;TZID=Europe/Amsterdam:20240819T170000
DTEND;TZID=Europe/Amsterdam:20240819T170000
DTSTAMP:20260422T030816
CREATED:20240713T055436Z
LAST-MODIFIED:20240713T055436Z
UID:3759-1724086800-1724086800@www.gvdos.nl
SUMMARY:Start seizoen 2024 / 2025
DESCRIPTION:
URL:https://www.gvdos.nl/agenda-item/start-seizoen-2024-2025/
LOCATION:Gymzaal de Schelf\, Tongerloplein\, Udenhout\, Nederland
END:VEVENT
END:VCALENDAR